BEGIN:VCALENDAR
VERSION:2.0
PRODID:-//ChamberMaster//Event Calendar 2.0//EN
METHOD:PUBLISH
X-PUBLISHED-TTL:P3D
REFRESH-INTERVAL:P3D
CALSCALE:GREGORIAN
BEGIN:VEVENT
DTSTART;VALUE=DATE:20260423
DTEND;VALUE=DATE:20260424
TRANSP:TRANSPARENT
X-MICROSOFT-CDO-ALLDAYEVENT:TRUE
SUMMARY:1 Free Kid's Meal with Purchase of 1 Pizza at Venezia Restaurant
DESCRIPTION:Daily Special:\n\n\n\nBuy 1 pizza\, get 1 kids meal free!
X-ALT-DESC;FMTTYPE=text/html:Daily Special:<br />\n<br />\nBuy 1 pizza\, get 1 kids meal free!
LOCATION:Venezia Restaurant 306 Kalamazoo St\, South Haven
UID:e.2015.14543
SEQUENCE:3
DTSTAMP:20260423T095400Z
URL:https://www.southhavenmi.com/events/details/1-free-kid-s-meal-with-purchase-of-1-pizza-at-venezia-restaurant-14543
END:VEVENT

END:VCALENDAR
