BEGIN:VCALENDAR
VERSION:2.0
PRODID:-//ChamberMaster//Event Calendar 2.0//EN
METHOD:PUBLISH
X-PUBLISHED-TTL:P3D
REFRESH-INTERVAL:P3D
CALSCALE:GREGORIAN
BEGIN:VEVENT
DTSTART:20241219T220000Z
DTEND:20241220T000000Z
X-MICROSOFT-CDO-ALLDAYEVENT:FALSE
SUMMARY:ABO Canceled- Baker Auto Group
DESCRIPTION:CANCELED
X-ALT-DESC;FMTTYPE=text/html:<span style="color:#FF0000\;"><strong>CANCELED</strong></span>
LOCATION:
UID:e.2015.7630
SEQUENCE:3
DTSTAMP:20260422T033247Z
URL:https://www.southhavenmi.com/events/details/abo-canceled-baker-auto-group-7630
END:VEVENT

END:VCALENDAR
