BEGIN:VCALENDAR
VERSION:2.0
PRODID:-//ChamberMaster//Event Calendar 2.0//EN
METHOD:PUBLISH
X-PUBLISHED-TTL:P3D
REFRESH-INTERVAL:P3D
CALSCALE:GREGORIAN
BEGIN:VEVENT
DTSTART:20241017T210000Z
DTEND:20241017T230000Z
X-MICROSOFT-CDO-ALLDAYEVENT:FALSE
SUMMARY:ABO- Cosy 103.7 (Mid-West Family)
DESCRIPTION:Chamber members\, join us for the October After Business Ours networking event hosted by Cosy 103.7 FM (Mid-West Family)! Enjoy relaxed networking\, food and drinks! This event is open to Chamber members only. Please RSVP to the Chamber by e-mailing cofc@southhavenmi.com or call 269-637-5171 to let us know you plan to attend.
X-ALT-DESC;FMTTYPE=text/html:Chamber members\, join us for the October After Business Ours networking event hosted by Cosy 103.7 FM (Mid-West Family)! Enjoy relaxed networking\, food and drinks! This event is open to Chamber members only. Please RSVP to the Chamber by e-mailing cofc@southhavenmi.com or call 269-637-5171 to let us know you plan to attend.
LOCATION:Beeches Golf Club 09601 68th St. South Haven\, MI 49090
UID:e.2015.7628
SEQUENCE:3
DTSTAMP:20260422T015653Z
URL:https://www.southhavenmi.com/events/details/abo-cosy-103-7-mid-west-family-7628
END:VEVENT

END:VCALENDAR
