BEGIN:VCALENDAR
VERSION:2.0
PRODID:-//ChamberMaster//Event Calendar 2.0//EN
METHOD:PUBLISH
X-PUBLISHED-TTL:P3D
REFRESH-INTERVAL:P3D
CALSCALE:GREGORIAN
BEGIN:VEVENT
DTSTART:20140320T210000Z
DTEND:20140320T230000Z
X-MICROSOFT-CDO-ALLDAYEVENT:FALSE
SUMMARY:ABO - Phoenix Business Complex
DESCRIPTION:Phoenix Business Complex located at 71057 Phoenix Road will be the host for March After Business Ours (ABO). ABO's are for members only. Please call the Chamber of Commerce to RSVP (269) 637-5171
X-ALT-DESC;FMTTYPE=text/html:Phoenix Business Complex located at 71057 Phoenix Road will be the host for March After Business Ours (ABO). ABO&#39\;s are for members only. Please call the Chamber of Commerce to RSVP (269) 637-5171
LOCATION:71057 Phoenix Road South Haven\, MI 49090
UID:e.2015.285
SEQUENCE:3
DTSTAMP:20260421T090721Z
URL:https://www.southhavenmi.com/events/details/abo-phoenix-business-complex-03-20-2014-285
END:VEVENT

END:VCALENDAR
