BEGIN:VCALENDAR
VERSION:2.0
PRODID:-//ChamberMaster//Event Calendar 2.0//EN
METHOD:PUBLISH
X-PUBLISHED-TTL:P3D
REFRESH-INTERVAL:P3D
CALSCALE:GREGORIAN
BEGIN:VEVENT
DTSTART:20140830T140000Z
DTEND:20140831T200000Z
X-MICROSOFT-CDO-ALLDAYEVENT:FALSE
SUMMARY:All Crafts Fair 2014
DESCRIPTION:The 38th Annual All Crafts Fair will be held on August 30-31\, 2014 in scenic Stanley Johnston Park! With over 200 unique vendors selling handmade crafts\, artwork\, jewelry and gourmet food\, there is truly something for everyone at the All Crafts Fair!
X-ALT-DESC;FMTTYPE=text/html:The 38th Annual All Crafts Fair will be held on August 30-31\, 2014 in scenic Stanley Johnston Park! With over 200 unique vendors selling handmade crafts\, artwork\, jewelry and gourmet food\, there is truly something for everyone at the All Crafts Fair!
LOCATION:Stanley Johnston Park is located just across the drawbridge on Dyckman Ave\, near the Maritime Museum in South Haven.
UID:e.2015.362
SEQUENCE:3
DTSTAMP:20260421T090643Z
URL:https://www.southhavenmi.com/events/details/all-crafts-fair-2014-362
END:VEVENT

END:VCALENDAR
