BEGIN:VCALENDAR
VERSION:2.0
PRODID:-//ChamberMaster//Event Calendar 2.0//EN
METHOD:PUBLISH
X-PUBLISHED-TTL:P3D
REFRESH-INTERVAL:P3D
CALSCALE:GREGORIAN
BEGIN:VEVENT
DTSTART:20140816T160000Z
DTEND:20140816T200000Z
X-MICROSOFT-CDO-ALLDAYEVENT:FALSE
SUMMARY:Boat Walk
DESCRIPTION:The Michigan Maritime Museum invites you to attend its First Annual Boat Walk! Visit a dozen beautiful boats of many types for only $15. Open to visitors 13 and up\, tickets may be purchased at the Museum gift shop.
X-ALT-DESC;FMTTYPE=text/html:The Michigan Maritime Museum invites you to attend its First Annual Boat Walk! Visit a dozen beautiful boats of many types for only $15. Open to visitors 13 and up\, tickets may be purchased at the Museum gift shop.
LOCATION:
UID:e.2015.659
SEQUENCE:3
DTSTAMP:20260421T090649Z
URL:https://www.southhavenmi.com/events/details/boat-walk-08-16-2014-659
END:VEVENT

END:VCALENDAR
