BEGIN:VCALENDAR
VERSION:2.0
PRODID:-//ChamberMaster//Event Calendar 2.0//EN
METHOD:PUBLISH
X-PUBLISHED-TTL:P3D
REFRESH-INTERVAL:P3D
CALSCALE:GREGORIAN
BEGIN:VEVENT
DTSTART:20241213T223000Z
DTEND:20241216T013000Z
X-MICROSOFT-CDO-ALLDAYEVENT:FALSE
SUMMARY:Christmas in the Park
DESCRIPTION:Experience the magic at the Christmas in the Park\, South Haven's only drive-thru light show! Wind your way through over 60\,000 dazzling lights on a 1/2 mile path\, all from the comfort of your own car! Open December 1st-23rd at Jellystone Park  in South Haven. Enjoy the nostalgia and wonderment of the lights and the season\, while enjoying the awe of a child as they experience the lights of the season\, along with their joy and merriment.
X-ALT-DESC;FMTTYPE=text/html:Experience the magic at the Christmas in the Park\, South Haven&rsquo\;s only drive-thru light show! Wind your way through over 60\,000 dazzling lights on a 1/2 mile path\, all from the comfort of your own car! Open December 1st-23rd at Jellystone Park&trade\; in South Haven. Enjoy the nostalgia and wonderment of the lights and the season\, while enjoying the awe of a child as they experience the lights of the season\, along with their joy and merriment.
LOCATION:Yogi Bear's Jellystone Park Camp-Resort 03403 64th Street\, South Haven\, MI. 49090
UID:e.2015.8863
SEQUENCE:3
DTSTAMP:20260422T034801Z
URL:https://www.southhavenmi.com/events/details/christmas-in-the-park-12-13-2024-8863
END:VEVENT

END:VCALENDAR
