BEGIN:VCALENDAR
VERSION:2.0
PRODID:-//ChamberMaster//Event Calendar 2.0//EN
METHOD:PUBLISH
X-PUBLISHED-TTL:P3D
REFRESH-INTERVAL:P3D
CALSCALE:GREGORIAN
BEGIN:VEVENT
DTSTART:20241206T230000Z
DTEND:20241207T003000Z
X-MICROSOFT-CDO-ALLDAYEVENT:FALSE
SUMMARY:Diane Van Deurzen & Lisa Otey Holiday Concert!
DESCRIPTION:First Congregational UCC has one more concert in the series for this year: Diane Van Deurzen & Lisa Otey's holiday concert! You can expect to hear many familiar tunes as well as a variety of jazzy and bluesy songs to get you in the holiday spirit.\n\nTickets for the Diane & Lisa Holiday Concert are $20 at the door\, general admission. See you all Friday\, December 6 at 6pm at First Congregational UCC\, 651 Phoenix St.\, in South Haven!
X-ALT-DESC;FMTTYPE=text/html:<p><span style="font-family:uictfonttextstylebody">First Congregational UCC has one more concert in the series for this year: Diane Van Deurzen &amp\; Lisa Otey&rsquo\;s holiday concert! You can expect to hear many familiar tunes as well as a variety of jazzy and bluesy songs to get you in the holiday spirit.</span></p>\n\n<p><span style="font-family:uictfonttextstylebody">Tickets for the Diane &amp\; Lisa Holiday Concert are $20 at the door\, general admission. See you all Friday\, December 6 at 6pm at First Congregational UCC\, 651 Phoenix St.\, in South Haven!&nbsp\;</span></p>\n
LOCATION:First Congregational UCC 651 Phoenix St South Haven\, MI
UID:e.2015.8866
SEQUENCE:3
DTSTAMP:20260422T020114Z
URL:https://www.southhavenmi.com/events/details/diane-van-deurzen-lisa-otey-holiday-concert-8866
END:VEVENT

END:VCALENDAR
