BEGIN:VCALENDAR
VERSION:2.0
PRODID:-//ChamberMaster//Event Calendar 2.0//EN
METHOD:PUBLISH
X-PUBLISHED-TTL:P3D
REFRESH-INTERVAL:P3D
CALSCALE:GREGORIAN
BEGIN:VEVENT
DTSTART:20241103T200000Z
DTEND:20241103T210000Z
X-MICROSOFT-CDO-ALLDAYEVENT:FALSE
SUMMARY:Fall Concert Series: Grace Theisen & Carolyn Koebel
DESCRIPTION:Sunday\, Nov. 3\, 3pm \n\nFall Concert Series: \n\nGrace Theisen & Carolyn Koebel \n\nFirst Congregational UCC\n\n651 Phoenix St.\, South Haven\n\n$20 at the door\, general admission\n\nCall Diane & Lisa (520) 370-5912\nOn Sunday\, November 3 at 3pm\, Americana artist Grace Theisen and world percussionist Carolyn Koebel will bring their award-winning music to First Congregational UCC\, 651 Phoenix St. in South Haven\, as part of the Fall Concert Series. $20 at the door\, general admission. Call Diane & Lisa at (520) 370-5912 for more information.
X-ALT-DESC;FMTTYPE=text/html:<big><strong><span style="font-family:uictfonttextstylebody">Sunday\, Nov. 3\, 3pm&nbsp\;</span></strong><br />\n<strong style="font-size:16px"><span style="font-family:uictfonttextstylebody">Fall Concert Series:&nbsp\;</span></strong><br />\n<strong><span style="font-family:uictfonttextstylebody">Grace Theisen &amp\; Carolyn Koebel&nbsp\;</span></strong></big><br />\n<span style="font-size:14px"><span style="font-family:uictfonttextstylebody">First Congregational UCC</span><br />\n<span style="font-family:uictfonttextstylebody">651 Phoenix St.\, South Haven</span></span><br />\n<span style="font-family:uictfonttextstylebody">$20 at the door\, general admission</span><br />\n<span style="font-family:uictfonttextstylebody">Call Diane &amp\; Lisa (520) 370-5912</span>\n<p><span style="font-family:uictfonttextstylebody">On Sunday\, November 3 at 3pm\, Americana artist Grace Theisen and world percussionist Carolyn Koebel will bring their award-winning music to First Congregational UCC\, 651 Phoenix St. in South Haven\, as part of the Fall Concert Series. $20 at the door\, general admission. Call Diane &amp\; Lisa at (520) 370-5912 for more information.&nbsp\;</span></p>\n
LOCATION:First Congregational UCC 651 Phoenix St.\, South Haven
UID:e.2015.8594
SEQUENCE:3
DTSTAMP:20260422T001357Z
URL:https://www.southhavenmi.com/events/details/fall-concert-series-grace-theisen-carolyn-koebel-8594
END:VEVENT

END:VCALENDAR
