BEGIN:VCALENDAR
VERSION:2.0
PRODID:-//ChamberMaster//Event Calendar 2.0//EN
METHOD:PUBLISH
X-PUBLISHED-TTL:P3D
REFRESH-INTERVAL:P3D
CALSCALE:GREGORIAN
BEGIN:VEVENT
DTSTART:20140304T160000Z
DTEND:20140304T190000Z
X-MICROSOFT-CDO-ALLDAYEVENT:FALSE
SUMMARY:Fat Tuesday Celebration
DESCRIPTION:Celebrate Fat Tuesday\, March 4\, at Village Market with food specials\, paczkis and polka music!\n\n\n\n"The Happy Notes" Polka Band will be playing from 11-2!\n\nPaczkis $.89 ea or 6 for $4.99\n\nIn the Deli\, enjoy polish sausage & sauerkraut\, polish dogs and stuffed cabbage.\n\nIn the Coffee Beanery\, get a reuben sandwich for only $5.00
X-ALT-DESC;FMTTYPE=text/html:Celebrate Fat Tuesday\, March 4\, at Village Market with food specials\, paczkis and polka music!<br />\n<br />\n&quot\;The Happy Notes&quot\; Polka Band will be playing from 11-2!<br />\nPaczkis $.89 ea or 6 for $4.99<br />\nIn the Deli\, enjoy polish sausage &amp\; sauerkraut\, polish dogs and stuffed cabbage.<br />\nIn the Coffee Beanery\, get a reuben sandwich for only $5.00
LOCATION:Village Market 08337 M-140\, South Haven
UID:e.2015.320
SEQUENCE:3
DTSTAMP:20260420T041443Z
URL:https://www.southhavenmi.com/events/details/fat-tuesday-celebration-03-04-2014-320
END:VEVENT

END:VCALENDAR
