BEGIN:VCALENDAR
VERSION:2.0
PRODID:-//ChamberMaster//Event Calendar 2.0//EN
METHOD:PUBLISH
X-PUBLISHED-TTL:P3D
REFRESH-INTERVAL:P3D
CALSCALE:GREGORIAN
BEGIN:VEVENT
DTSTART;VALUE=DATE:20180831
DTEND;VALUE=DATE:20180901
TRANSP:TRANSPARENT
X-MICROSOFT-CDO-ALLDAYEVENT:TRUE
SUMMARY:Flutist Rhonda Larson
DESCRIPTION:South Haven Performance Series Presents:\n\nGrammy Winner Flutist Rhonda Larson
X-ALT-DESC;FMTTYPE=text/html:South Haven Performance Series Presents:<br />\nGrammy Winner Flutist Rhonda Larson
LOCATION:First United Methodist Church 429 Michigan Ave\, South Haven\, MI 49090
UID:e.2015.4828
SEQUENCE:3
DTSTAMP:20260421T110017Z
URL:https://www.southhavenmi.com/events/details/flutist-rhonda-larson-4828
END:VEVENT

END:VCALENDAR
