BEGIN:VCALENDAR
VERSION:2.0
PRODID:-//ChamberMaster//Event Calendar 2.0//EN
METHOD:PUBLISH
X-PUBLISHED-TTL:P3D
REFRESH-INTERVAL:P3D
CALSCALE:GREGORIAN
BEGIN:VEVENT
DTSTART;VALUE=DATE:20260420
DTEND;VALUE=DATE:20260421
TRANSP:TRANSPARENT
X-MICROSOFT-CDO-ALLDAYEVENT:TRUE
SUMMARY:Free Cheesy Bread at Venezia Restaurant
DESCRIPTION:Daily Special:\n\n\n\nOne FREE cheesy bread with the purchase of a pizza. One per order.
X-ALT-DESC;FMTTYPE=text/html:Daily Special:<br />\n<br />\nOne FREE cheesy bread with the purchase of a pizza. One per order.
LOCATION:Venezia Restaurant 306 Kalamazoo St\, South Haven
UID:e.2015.14531
SEQUENCE:3
DTSTAMP:20260420T235520Z
URL:https://www.southhavenmi.com/events/details/free-cheesy-bread-at-venezia-restaurant-14531
END:VEVENT

END:VCALENDAR
