BEGIN:VCALENDAR
VERSION:2.0
PRODID:-//ChamberMaster//Event Calendar 2.0//EN
METHOD:PUBLISH
X-PUBLISHED-TTL:P3D
REFRESH-INTERVAL:P3D
CALSCALE:GREGORIAN
BEGIN:VEVENT
DTSTART:20241016T200000Z
DTEND:20241016T220000Z
X-MICROSOFT-CDO-ALLDAYEVENT:FALSE
SUMMARY:FREE FAMILY ACTIVITY - Decorate Pumpkins and Scarecrows
DESCRIPTION:Bring the whole family for a pumpkin and scarecrow decorating bonanza   free of charge! Once we're done crafting these spooky masterpieces\, we'll unleash them into the woods for everyone to see! In coordination with our monthly StoryWalk  "Give Me Back My Bones" by Kim Norman and Bob Kolar (posted in our woods from October 1st - October 31st) and our annual Pumpkin Walk (October 27th starting at 6:45pm)
X-ALT-DESC;FMTTYPE=text/html:Bring the whole family for a pumpkin and scarecrow decorating bonanza &mdash\; free of charge! Once we&#39\;re done crafting these spooky masterpieces\, we&#39\;ll unleash them into the woods for everyone to see! In coordination with our monthly StoryWalk&reg\; &quot\;Give Me Back My Bones&quot\; by Kim Norman and Bob Kolar (posted in our woods from October 1st - October 31st) and our annual Pumpkin Walk (October 27th starting at 6:45pm)
LOCATION:903 S. Bailey Ave
UID:e.2015.8579
SEQUENCE:3
DTSTAMP:20260422T020503Z
URL:https://www.southhavenmi.com/events/details/free-family-activity-decorate-pumpkins-and-scarecrows-8579
END:VEVENT

END:VCALENDAR
