BEGIN:VCALENDAR
VERSION:2.0
PRODID:-//ChamberMaster//Event Calendar 2.0//EN
METHOD:PUBLISH
X-PUBLISHED-TTL:P3D
REFRESH-INTERVAL:P3D
CALSCALE:GREGORIAN
BEGIN:VEVENT
DTSTART:20241120T220000Z
DTEND:20241121T000000Z
X-MICROSOFT-CDO-ALLDAYEVENT:FALSE
SUMMARY:FREE FAMILY ACTIVITY - Make your own recycled bird feeder!
DESCRIPTION:In coordination with our current monthly StoryWalk  "Bear Says Thanks" we are making bird feeders! Come join us to learn how to make bird feeders out of 2 liter bottles\, milk jugs\, plastic water bottles\, and more.
X-ALT-DESC;FMTTYPE=text/html:In coordination with our current monthly StoryWalk&reg\; &quot\;Bear Says Thanks&quot\; we are making bird feeders! Come join us to learn how to make bird feeders out of 2 liter bottles\, milk jugs\, plastic water bottles\, and more.
LOCATION:The Liberty Hyde Bailey Museum & Gardens
UID:e.2015.8781
SEQUENCE:3
DTSTAMP:20260422T020033Z
URL:https://www.southhavenmi.com/events/details/free-family-activity-make-your-own-recycled-bird-feeder-8781
END:VEVENT

END:VCALENDAR
