BEGIN:VCALENDAR
VERSION:2.0
PRODID:-//ChamberMaster//Event Calendar 2.0//EN
METHOD:PUBLISH
X-PUBLISHED-TTL:P3D
REFRESH-INTERVAL:P3D
CALSCALE:GREGORIAN
BEGIN:VEVENT
DTSTART:20241031T123000Z
DTEND:20241031T180000Z
X-MICROSOFT-CDO-ALLDAYEVENT:FALSE
SUMMARY:Future Farmer for a Day!
DESCRIPTION:Future Farmer for a Day\n\n\nEver wonder what it takes to be a farmer?\n\n\n\n\n\n\n	5 hr 30 min\n	\n	$150\n	\n	Bumbleberry Acres\n\n\n\n \n\n\n\n\n\n\nService Description\n\nEver wonder what it takes to be a farmer? With Future Farmer for a Day you get to experience a day in the life of a farmer. Future farmers will learn about: How blueberry grow\, how they are pruned\, why bees are so important\, how a blueberry blooms and why\, different varieties of blueberries\, common bugs and plant diseases. How to pick like a professional. How to take care of animals including rabbits\, chickens\, goats and more. Activities include: -feeding animals -cleaning pens -gathering eggs -brushing down donkeys -walk donkeys and/or a goat -teaching a sheep how to come -how to grow blueberries
X-ALT-DESC;FMTTYPE=text/html:<div class="sydKowG" data-hook="children-TITLE_TAGLINE">\n<div class="sPe18Dy ozXF8uQ---alignment-4-left ozXF8uQ---location-4-BODY" data-hook="title-and-tagline-wrapper">\n<div aria-hidden="true" data-hook="title-and-tagline-title-wrapper">\n<h1 aria-hidden="false" class="sziaVFo oX6LAyn---typography-10-largeTitle oX6LAyn---priority-7-primary s__5rkMyh" data-hook="title-and-tagline-title">Future Farmer for a Day</h1>\n</div>\n\n<p aria-hidden="false" class="sziaVFo oX6LAyn---typography-11-runningText oX6LAyn---priority-7-primary sVYoBc0" data-hook="title-and-tagline-tagline">Ever wonder what it takes to be a farmer?</p>\n</div>\n</div>\n\n<div class="sOMZnbk oTZu_Li--withBookButton oTZu_Li---alignment-4-left" data-section-type="DETAILS">\n<div class="sydKowG" data-hook="children-DETAILS">\n<ul class="soXIl7d oNmrnZF---textAlignment-4-left" data-hook="details-wrapper">\n	<li aria-hidden="false" class="sziaVFo oX6LAyn---typography-11-runningText oX6LAyn---priority-7-primary szreLek" data-hook="details-duration"><span aria-hidden="true">5 hr 30 min</span></li>\n	<li>\n	<div class="shMi9QI" data-hook="sr-only-details-price">$150</div>\n	</li>\n	<li aria-hidden="false" class="sziaVFo oX6LAyn---typography-11-runningText oX6LAyn---priority-7-primary szreLek" data-hook="details-locations">Bumbleberry Acres</li>\n</ul>\n</div>\n\n<div class="s__6CDSwD sckSX6q oTZu_Li---alignment-4-left oTZu_Li--spaceBetweenSections" data-hook="book-button-wrapper">&nbsp\;</div>\n</div>\n\n<div class="sOMZnbk oTZu_Li---alignment-4-left" data-section-type="DESCRIPTION">\n<hr class="ssbDDUx oYa3BYp---direction-10-horizontal sW_eZPV" data-hook="section-divider">\n<div class="sydKowG" data-hook="children-DESCRIPTION">\n<div data-hook="description-wrapper">\n<h2 aria-hidden="false" class="sziaVFo oX6LAyn---typography-11-runningText oX6LAyn---priority-7-primary siptXFP o_IUGOz---location-4-BODY" data-hook="description-title">Service Description</h2>\n\n<p aria-hidden="false" class="sziaVFo oX6LAyn---typography-11-runningText oX6LAyn---priority-7-primary sPHZGGF oNKl38p---location-4-BODY sF_NA_j" data-hook="description">Ever wonder what it takes to be a farmer? With Future Farmer for a Day you get to experience a day in the life of a farmer. Future farmers will learn about: How blueberry grow\, how they are pruned\, why bees are so important\, how a blueberry blooms and why\, different varieties of blueberries\, common bugs and plant diseases. How to pick like a professional. How to take care of animals including rabbits\, chickens\, goats and more. Activities include: -feeding animals -cleaning pens -gathering eggs -brushing down donkeys -walk donkeys and/or a goat -teaching a sheep how to come -how to grow blueberries</p>\n</div>\n</div>\n</div>\n
LOCATION:
UID:e.2015.8275
SEQUENCE:3
DTSTAMP:20260422T015632Z
URL:https://www.southhavenmi.com/events/details/future-farmer-for-a-day-10-31-2024-8275
END:VEVENT

END:VCALENDAR
