BEGIN:VCALENDAR
VERSION:2.0
PRODID:-//ChamberMaster//Event Calendar 2.0//EN
METHOD:PUBLISH
X-PUBLISHED-TTL:P3D
REFRESH-INTERVAL:P3D
CALSCALE:GREGORIAN
BEGIN:VEVENT
DTSTART:20140712T140000Z
DTEND:20140712T200000Z
X-MICROSOFT-CDO-ALLDAYEVENT:FALSE
SUMMARY:Garden Walk
DESCRIPTION:South Haven Garden Club's Annual Garden Walk\n\nVisit beautiful local gardens\, enjoy refreshments\, shop for crafts\, plants and gently used garden items.
X-ALT-DESC;FMTTYPE=text/html:South Haven Garden Club&#39\;s Annual Garden Walk<br />\nVisit beautiful local gardens\, enjoy refreshments\, shop for crafts\, plants and gently used garden items.
LOCATION:Liberty Hyde Bailey Museum\, 903 South Bailey St. South Haven
UID:e.2015.394
SEQUENCE:3
DTSTAMP:20260422T100712Z
URL:https://www.southhavenmi.com/events/details/garden-walk-07-12-2014-394
END:VEVENT

END:VCALENDAR
