BEGIN:VCALENDAR
VERSION:2.0
PRODID:-//ChamberMaster//Event Calendar 2.0//EN
METHOD:PUBLISH
X-PUBLISHED-TTL:P3D
REFRESH-INTERVAL:P3D
CALSCALE:GREGORIAN
BEGIN:VEVENT
DTSTART;VALUE=DATE:20241114
DTEND;VALUE=DATE:20241115
TRANSP:TRANSPARENT
X-MICROSOFT-CDO-ALLDAYEVENT:TRUE
SUMMARY:Give Back Day
DESCRIPTION:Join us all day Thursday  November 14\, 2024 for our monthly local give back day! This month we are giving back to Al- Van Humane Society! Bring anything off of their wishlist and we will take 10% of off your bill! Dine with a cause at The Lodge!
X-ALT-DESC;FMTTYPE=text/html:Join us all day Thursday &nbsp\;November 14\, 2024 for our monthly local give back day! This month we are giving back to Al- Van Humane Society! Bring anything off of their wishlist and we will take 10% of off your bill! Dine with a cause at The Lodge!&nbsp\;
LOCATION:The Lodge South Haven
UID:e.2015.8725
SEQUENCE:3
DTSTAMP:20260422T013137Z
URL:https://www.southhavenmi.com/events/details/give-back-day-8725
END:VEVENT

END:VCALENDAR
