BEGIN:VCALENDAR
VERSION:2.0
PRODID:-//ChamberMaster//Event Calendar 2.0//EN
METHOD:PUBLISH
X-PUBLISHED-TTL:P3D
REFRESH-INTERVAL:P3D
CALSCALE:GREGORIAN
BEGIN:VEVENT
DTSTART:20141101T210000Z
DTEND:20141101T230000Z
X-MICROSOFT-CDO-ALLDAYEVENT:FALSE
SUMMARY:Glenn Spaghetti Dinner
DESCRIPTION:The Glenn Community Center will hold a spaghetti dinner on Saturday\, November 1st from 5pm -7pm. The menu will include spaghetti\, salad\, breadsticks\, beverage and ice cream. Cost is $6 for adults\, kids 4-12 are $4\, children under 3 eat free.
X-ALT-DESC;FMTTYPE=text/html:The Glenn Community Center will hold a spaghetti dinner on Saturday\, November 1st from 5pm -7pm. The menu will include spaghetti\, salad\, breadsticks\, beverage and ice cream. Cost is $6 for adults\, kids 4-12 are $4\, children under 3 eat free.
LOCATION:Glenn Community Center 6953 114th Ave Glenn
UID:e.2015.1708
SEQUENCE:3
DTSTAMP:20260420T174510Z
URL:https://www.southhavenmi.com/events/details/glenn-spaghetti-dinner-11-01-2014-1708
END:VEVENT

END:VCALENDAR
