BEGIN:VCALENDAR
VERSION:2.0
PRODID:-//ChamberMaster//Event Calendar 2.0//EN
METHOD:PUBLISH
X-PUBLISHED-TTL:P3D
REFRESH-INTERVAL:P3D
CALSCALE:GREGORIAN
BEGIN:VEVENT
DTSTART:20241116T230000Z
DTEND:20241117T010000Z
X-MICROSOFT-CDO-ALLDAYEVENT:FALSE
SUMMARY:Holiday Wine Event: Taste & Save for the Holidays!
DESCRIPTION:Welcome to the Holiday Wine Event: Taste & Save for the Holidays! Join us on Sat Nov 16 2024 at 6:00 PM at the beautiful Vintage Inn at Veritas Estate Winery. Get into the holiday spirit with a night filled with delicious wine and food to taste and great savings to be had! Sample a variety of wines perfect for your holiday gatherings and stock up on your favorites at discounted prices. Don't miss out on this festive event to kick off the holiday season in style!
X-ALT-DESC;FMTTYPE=text/html:<span style="font-family: &quot\;Neue Plak&quot\;\, -apple-system\, BlinkMacSystemFont\, Roboto\, &quot\;Helvetica Neue&quot\;\, Helvetica\, Tahoma\, Arial\, sans-serif\; font-size: 16px\;">Welcome to the&nbsp\;</span><span style="font-weight: 700\; box-sizing: border-box\; padding-top: 0px\; font-family: &quot\;Neue Plak&quot\;\, -apple-system\, BlinkMacSystemFont\, Roboto\, &quot\;Helvetica Neue&quot\;\, Helvetica\, Tahoma\, Arial\, sans-serif\; font-size: 16px\;">Holiday Wine Event: Taste &amp\; Save for the Holidays!</span><span style="font-family: &quot\;Neue Plak&quot\;\, -apple-system\, BlinkMacSystemFont\, Roboto\, &quot\;Helvetica Neue&quot\;\, Helvetica\, Tahoma\, Arial\, sans-serif\; font-size: 16px\;">&nbsp\;Join us on&nbsp\;</span><span style="font-weight: 700\; box-sizing: border-box\; font-family: &quot\;Neue Plak&quot\;\, -apple-system\, BlinkMacSystemFont\, Roboto\, &quot\;Helvetica Neue&quot\;\, Helvetica\, Tahoma\, Arial\, sans-serif\; font-size: 16px\;">Sat Nov 16 2024</span><span style="font-family: &quot\;Neue Plak&quot\;\, -apple-system\, BlinkMacSystemFont\, Roboto\, &quot\;Helvetica Neue&quot\;\, Helvetica\, Tahoma\, Arial\, sans-serif\; font-size: 16px\;">&nbsp\;at&nbsp\;</span><span style="font-weight: 700\; box-sizing: border-box\; font-family: &quot\;Neue Plak&quot\;\, -apple-system\, BlinkMacSystemFont\, Roboto\, &quot\;Helvetica Neue&quot\;\, Helvetica\, Tahoma\, Arial\, sans-serif\; font-size: 16px\;">6:00 PM</span><span style="font-family: &quot\;Neue Plak&quot\;\, -apple-system\, BlinkMacSystemFont\, Roboto\, &quot\;Helvetica Neue&quot\;\, Helvetica\, Tahoma\, Arial\, sans-serif\; font-size: 16px\;">&nbsp\;at the beautiful Vintage Inn at Veritas Estate Winery. Get into the holiday spirit with a night filled with delicious wine and food to taste and great savings to be had! Sample a variety of wines perfect for your holiday gatherings and stock up on your favorites at discounted prices. Don&#39\;t miss out on this festive event to kick off the holiday season in style!</span>
LOCATION:Vintage Inn at Veritas Estate Winery 7073 Baseline Road South Haven\, MI 49090
UID:e.2015.8539
SEQUENCE:3
DTSTAMP:20260422T001142Z
URL:https://www.southhavenmi.com/events/details/holiday-wine-event-taste-save-for-the-holidays-8539
END:VEVENT

END:VCALENDAR
