BEGIN:VCALENDAR
VERSION:2.0
PRODID:-//ChamberMaster//Event Calendar 2.0//EN
METHOD:PUBLISH
X-PUBLISHED-TTL:P3D
REFRESH-INTERVAL:P3D
CALSCALE:GREGORIAN
BEGIN:VEVENT
DTSTART:20241119T000000Z
DTEND:20241119T004500Z
X-MICROSOFT-CDO-ALLDAYEVENT:FALSE
SUMMARY:Horticulture Trivia
DESCRIPTION:Horticulture Trivia\n\nNovember 18\, 7:00PM   7:45PM Zoom\n\n \n\nJoin MSU Extension for an evening of fun to test your plant\, insect\, and garden knowledge. Prizes awarded.
X-ALT-DESC;FMTTYPE=text/html:<span style="color:black\;"><span style="font-family:roboto\;"><span style="font-size:12.0pt\;"><a href="https://m8s75j5ab.cc.rs6.net/tn.jsp?f=001RBbmTdHRFBUcs1pSSL0EvH1JeSevVFzcjUtYItfSJddQFq3n1yboCoKLO1ZsUTJILfD6iu2fdoZytPV0UScL6PvE6573GMep3sz_yO8dJ3sIhw-pxeU5R6_9l-ZNuGDh0j9-KUaeZ2fJA3vaoSDZGDr7nHdaBxOblCGB_DSyI0EUHgdX3XoRxOBUZ76wfKpBOUN-GBbKasCRzJVFHwGW5g==&amp\;c=iLyg6mhkbQ920igN_AKny7Jb0QOTuCoyVktzXj4Q4iiOvKosDvTrzw==&amp\;ch=_-oInsMgBOelAdMT-carhLDHgUo8B3dpK2fjmD6mGR2wJD-YSpyHGQ==" target="_blank"><span style="color:black\;"><span style="font-size:13.0pt\;">Horticulture Trivia</span></span></a></span></span></span><br />\n<span style="color:black\;"><span style="font-family:roboto\;"><span style="font-size:12.0pt\;"><a href="https://m8s75j5ab.cc.rs6.net/tn.jsp?f=001RBbmTdHRFBUcs1pSSL0EvH1JeSevVFzcjUtYItfSJddQFq3n1yboCoKLO1ZsUTJILfD6iu2fdoZytPV0UScL6PvE6573GMep3sz_yO8dJ3sIhw-pxeU5R6_9l-ZNuGDh0j9-KUaeZ2fJA3vaoSDZGDr7nHdaBxOblCGB_DSyI0EUHgdX3XoRxOBUZ76wfKpBOUN-GBbKasCRzJVFHwGW5g==&amp\;c=iLyg6mhkbQ920igN_AKny7Jb0QOTuCoyVktzXj4Q4iiOvKosDvTrzw==&amp\;ch=_-oInsMgBOelAdMT-carhLDHgUo8B3dpK2fjmD6mGR2wJD-YSpyHGQ==" target="_blank"><span style="color:black\;"><span style="font-size:13.0pt\;">November 18\, 7:00PM &ndash\; 7:45PM Zoom</span></span></a></span></span></span><br />\n&nbsp\;<br />\n<span style="color:black\;"><span style="font-family:roboto\;"><span style="font-size:12.0pt\;">Join MSU Extension for an evening of fun to test your plant\, insect\, and garden knowledge. Prizes awarded.</span></span></span><br />\n&nbsp\;
LOCATION:
UID:e.2015.8813
SEQUENCE:3
DTSTAMP:20260422T013150Z
URL:https://www.southhavenmi.com/events/details/horticulture-trivia-8813
END:VEVENT

END:VCALENDAR
