BEGIN:VCALENDAR
VERSION:2.0
PRODID:-//ChamberMaster//Event Calendar 2.0//EN
METHOD:PUBLISH
X-PUBLISHED-TTL:P3D
REFRESH-INTERVAL:P3D
CALSCALE:GREGORIAN
BEGIN:VEVENT
DTSTART:20241129T210000Z
DTEND:20241130T000000Z
X-MICROSOFT-CDO-ALLDAYEVENT:FALSE
SUMMARY:Hot Chocolate & Cookies at the Forest House
DESCRIPTION:South Haven Historical Assocation\n\nHot Chocolate & Cookies at the Forest House
X-ALT-DESC;FMTTYPE=text/html:South Haven Historical Assocation<br />\nHot Chocolate &amp\; Cookies at the Forest House<br />\n&nbsp\;
LOCATION:Forest House 313 Center Street South Haven\, MI 49090
UID:e.2015.7672
SEQUENCE:3
DTSTAMP:20260422T001059Z
URL:https://www.southhavenmi.com/events/details/hot-chocolate-cookies-at-the-forest-house-7672
END:VEVENT

END:VCALENDAR
