BEGIN:VCALENDAR
VERSION:2.0
PRODID:-//ChamberMaster//Event Calendar 2.0//EN
METHOD:PUBLISH
X-PUBLISHED-TTL:P3D
REFRESH-INTERVAL:P3D
CALSCALE:GREGORIAN
BEGIN:VEVENT
DTSTART:20140705T010000Z
DTEND:20140705T030000Z
X-MICROSOFT-CDO-ALLDAYEVENT:FALSE
SUMMARY:Independence Day Celebration!
DESCRIPTION:Join our joyous celebration of America's birthday\, complete with traditional patriotic songs\, Tchaikovsky's rousing 1812 Overture and\, of course\, the most spectacular view of the fireworks anywhere!
X-ALT-DESC;FMTTYPE=text/html:Join our joyous celebration of America&#39\;s birthday\, complete with traditional patriotic songs\, Tchaikovsky&#39\;s rousing 1812 Overture and\, of course\, the most spectacular view of the fireworks anywhere!
LOCATION:Shadowland Pavilion - Silver Beach in St. Joseph\, MI 49085
UID:e.2015.469
SEQUENCE:3
DTSTAMP:20260420T110516Z
URL:https://www.southhavenmi.com/events/details/independence-day-celebration-07-04-2014-469
END:VEVENT

END:VCALENDAR
