BEGIN:VCALENDAR
VERSION:2.0
PRODID:-//ChamberMaster//Event Calendar 2.0//EN
METHOD:PUBLISH
X-PUBLISHED-TTL:P3D
REFRESH-INTERVAL:P3D
CALSCALE:GREGORIAN
BEGIN:VEVENT
DTSTART:20160730T110000Z
DTEND:20160731T020000Z
X-MICROSOFT-CDO-ALLDAYEVENT:FALSE
SUMMARY:Interactive Flute Retreat Day Pass
DESCRIPTION:Spend an entire day with renowned musicians\, Sharon Sparrow and Jeff Zook at the Interactive Flute Retreat. Day includes -a two flute sessions (2 hour block per session) -a joint masterclass -recital -dessert q&a -three meals -one yoga session on the beach. Deadline is July 29\, 2016 open to ages 18 and older *please contact Melissa Grey (info@interactivefluteretreat.com) if you are a serious 16-17 year old flute student interested in attending
X-ALT-DESC;FMTTYPE=text/html:Spend an entire day with renowned musicians\, Sharon Sparrow and Jeff Zook at the Interactive Flute Retreat. Day includes -a two flute sessions (2 hour block per session) -a joint masterclass -recital -dessert q&amp\;a -three meals -one yoga session on the beach. Deadline is July 29\, 2016 open to ages 18 and older *please contact Melissa Grey (info@interactivefluteretreat.com) if you are a serious 16-17 year old flute student interested in attending
LOCATION:Private Residence in South Haven
UID:e.2015.3219
SEQUENCE:3
DTSTAMP:20260421T091221Z
URL:https://www.southhavenmi.com/events/details/interactive-flute-retreat-day-pass-07-30-2016-3219
END:VEVENT

END:VCALENDAR
