BEGIN:VCALENDAR
VERSION:2.0
PRODID:-//ChamberMaster//Event Calendar 2.0//EN
METHOD:PUBLISH
X-PUBLISHED-TTL:P3D
REFRESH-INTERVAL:P3D
CALSCALE:GREGORIAN
BEGIN:VEVENT
DTSTART:20241102T000000Z
DTEND:20241102T023000Z
X-MICROSOFT-CDO-ALLDAYEVENT:FALSE
SUMMARY:Karaoke and Costume Contest
DESCRIPTION:
X-ALT-DESC;FMTTYPE=text/html:
LOCATION:10336 blue star hwy \, the lodge
UID:e.2015.8644
SEQUENCE:3
DTSTAMP:20260422T000920Z
URL:https://www.southhavenmi.com/events/details/karaoke-and-costume-contest-8644
END:VEVENT

END:VCALENDAR
