BEGIN:VCALENDAR
VERSION:2.0
PRODID:-//ChamberMaster//Event Calendar 2.0//EN
METHOD:PUBLISH
X-PUBLISHED-TTL:P3D
REFRESH-INTERVAL:P3D
CALSCALE:GREGORIAN
BEGIN:VEVENT
DTSTART:20150507T213000Z
DTEND:20150507T213000Z
X-MICROSOFT-CDO-ALLDAYEVENT:FALSE
SUMMARY:Light the Way Kick-off Celebration
DESCRIPTION:You are invited to the Light the Way Kick-off Celebration!\n\n\n\n5:30pm on Thursday\, May 7 at the South Haven Yacht Club\, 401 Williams St.\n\n\n\nJoin the Historical Association of South Haven for an evening of hors d'oeuvres\, dinner\, the debut of a St. Julian wine label commemorating our famous lighthouse\, silent auction of maritime memorabilia\, unveiling of our historic lighthouse chapbook\, video presentation and more.\n\n\n\nMinimum donation of $50 per person. To make reservations\, please send your check to: HASH Lighthouse\, PO BOX 552\, South Haven\, MI 49090. Please note the number of guests and contact info.\n\n\n\nSeating will be limited for this special event in the historic yacht club overlooking South Haven's beautiful harbor. For further information\, please call 269-637-6424.\n\n\n\nThis kick-off celebration is just one of a variety of events planned this year for the capital campaign to raise $300\,000 to preserve and maintain South Haven's historic lighthouse for future generations to enjoy.
X-ALT-DESC;FMTTYPE=text/html:You are invited to the Light the Way Kick-off Celebration!<br />\n<br />\n5:30pm on Thursday\, May 7 at the South Haven Yacht Club\, 401 Williams St.<br />\n<br />\nJoin the Historical Association of South Haven for an evening of hors d&#39\;oeuvres\, dinner\, the debut of a St. Julian wine label commemorating our famous lighthouse\, silent auction of maritime memorabilia\, unveiling of our historic lighthouse chapbook\, video presentation and more.<br />\n<br />\nMinimum donation of $50 per person. To make reservations\, please send your check to: HASH Lighthouse\, PO BOX 552\, South Haven\, MI 49090. Please note the number of guests and contact info.<br />\n<br />\nSeating will be limited for this special event in the historic yacht club overlooking South Haven&#39\;s beautiful harbor. For further information\, please call 269-637-6424.<br />\n<br />\nThis kick-off celebration is just one of a variety of events planned this year for the capital campaign to raise $300\,000 to preserve and maintain South Haven&#39\;s historic lighthouse for future generations to enjoy.
LOCATION:South Haven Yacht Club 401 Williams St. South Haven\, MI
UID:e.2015.2123
SEQUENCE:3
DTSTAMP:20260421T091310Z
URL:https://www.southhavenmi.com/events/details/light-the-way-kick-off-celebration-05-07-2015-2123
END:VEVENT

END:VCALENDAR
