BEGIN:VCALENDAR
VERSION:2.0
PRODID:-//ChamberMaster//Event Calendar 2.0//EN
METHOD:PUBLISH
X-PUBLISHED-TTL:P3D
REFRESH-INTERVAL:P3D
CALSCALE:GREGORIAN
BEGIN:VEVENT
DTSTART:20141003T120000Z
DTEND:20141003T190000Z
X-MICROSOFT-CDO-ALLDAYEVENT:FALSE
SUMMARY:Manufacturing Day
DESCRIPTION:Kinexus is hosting their second annual Manufacturing Day on Friday\, October 3rd from 8am to 3pm. MFG Day is all about showcasing the amazing things that businesses in our region make\, and connecting students to the great opportunities that exist with those employers.  \n\n\n\nManufacturing booths and student project showcase booths are still available- please contact Alex Grumbine for registration information grumbinea@kinexus.org\n\n\n\nFind more information at http://www.mfgday.com/
X-ALT-DESC;FMTTYPE=text/html:<span style="font-family:calibri\,sans-serif\;"><span style="font-size:11.0pt\;">Kinexus is hosting their second annual Manufacturing Day on Friday\, October 3rd from 8am to 3pm. MFG Day is all about showcasing the amazing things that businesses in our region make\, and connecting students to the great opportunities that exist with those employers.&nbsp\; </span></span><br />\n<br />\nManufacturing booths and student project showcase booths are still available- please contact Alex Grumbine for registration information grumbinea@kinexus.org<br />\n<br />\nFind more information at http://www.mfgday.com/
LOCATION:MACH Mold Benton Harbor
UID:e.2015.660
SEQUENCE:3
DTSTAMP:20260420T045025Z
URL:https://www.southhavenmi.com/events/details/manufacturing-day-10-03-2014-660
END:VEVENT

END:VCALENDAR
