BEGIN:VCALENDAR
VERSION:2.0
PRODID:-//ChamberMaster//Event Calendar 2.0//EN
METHOD:PUBLISH
X-PUBLISHED-TTL:P3D
REFRESH-INTERVAL:P3D
CALSCALE:GREGORIAN
BEGIN:VEVENT
DTSTART:20140510T130000Z
DTEND:20140510T210000Z
X-MICROSOFT-CDO-ALLDAYEVENT:FALSE
SUMMARY:National Train Day
DESCRIPTION:National Train Day will be celebrated all day from 9am to 5pm at Railroad Cafe involving music\, family-friendly activities\, giveaways\, a model train exhibit at the Grain Elevator and an exhibit at the Ely Hardware.\n\nAn official proclamation will be made as the Amtrak train rolls in at 9:07am
X-ALT-DESC;FMTTYPE=text/html:National Train Day will be celebrated all day from 9am to 5pm at Railroad Cafe involving music\, family-friendly activities\, giveaways\, a model train exhibit at the Grain Elevator and an exhibit at the Ely Hardware.<br />\nAn official proclamation will be made as the Amtrak train rolls in at 9:07am
LOCATION:Bangor\, MI
UID:e.2015.354
SEQUENCE:3
DTSTAMP:20260421T081256Z
URL:https://www.southhavenmi.com/events/details/national-train-day-05-10-2014-354
END:VEVENT

END:VCALENDAR
