BEGIN:VCALENDAR
VERSION:2.0
PRODID:-//ChamberMaster//Event Calendar 2.0//EN
METHOD:PUBLISH
X-PUBLISHED-TTL:P3D
REFRESH-INTERVAL:P3D
CALSCALE:GREGORIAN
BEGIN:VEVENT
DTSTART:20241119T203000Z
DTEND:20241119T220000Z
X-MICROSOFT-CDO-ALLDAYEVENT:FALSE
SUMMARY:Portraiture focus: Lips and mouths
DESCRIPTION:Portraiture focus: Lips and mouths\n\nVan Buren Youth Initiative class available for middle and high school aged students with teaching artist Kayla Ridley.\n\n\n\nDive into the art of portraiture through this feature focused drawing course! Students will learn the basic anatomy of the human features and will have the opportunity to draw that feature from direct observation. We will explore proportion\, line work\, and shading\, all essential to creating a realistic and expressive portrait.
X-ALT-DESC;FMTTYPE=text/html:<!--StartFragment--><span data-olk-copy-source="MessageBody">Portraiture focus: Lips and mouths</span><!--EndFragment--><br />\n<!--StartFragment--><span data-olk-copy-source="MessageBody">Van Buren Youth Initiative class&nbsp\;</span><!--StartFragment--><span data-olk-copy-source="MessageBody">available for middle and high school aged students with teaching artist Kayla Ridley.</span><!--EndFragment--><br />\n<br />\n<!--StartFragment--><span data-olk-copy-source="MessageBody">Dive into the art of portraiture&nbsp\;through this feature focused drawing course! Students will learn the basic&nbsp\;anatomy of the human features and will have the opportunity to draw that feature from direct observation. We will explore proportion\, line work\, and shading\, all essential to creating a realistic and expressive portrait.&nbsp\;</span><!--EndFragment-->
LOCATION:South Haven Center for the Arts 600 Phoenix St. South Haven\, Mi
UID:e.2015.8848
SEQUENCE:3
DTSTAMP:20260422T001033Z
URL:https://www.southhavenmi.com/events/details/portraiture-focus-lips-and-mouths-8848
END:VEVENT

END:VCALENDAR
