BEGIN:VCALENDAR
VERSION:2.0
PRODID:-//ChamberMaster//Event Calendar 2.0//EN
METHOD:PUBLISH
X-PUBLISHED-TTL:P3D
REFRESH-INTERVAL:P3D
CALSCALE:GREGORIAN
BEGIN:VEVENT
DTSTART:20241031T223000Z
DTEND:20241101T000000Z
X-MICROSOFT-CDO-ALLDAYEVENT:FALSE
SUMMARY:Pumkinfest at First Baptist Church
DESCRIPTION:PUMPKINFEST      \n\nThursday\, 10/31 | 6:30-8:00pm | FBC's Gym\n\nPumpkinFest provides a FREE festive\, carnival-type atmosphere INDOORS.  Kids and their parents can enjoy an evening of FREE games\, food and treats (no tricks!).  Hot coffee\, popcorn\, and cotton candy will be served.  If the weather is rainy or cold\, this is a great alternative to trick-or-treating!  Or stop by after you're finished trick-or-treating\, have more fun and get more candy!  This is a children's event and costumes should be "G" rated please no scary or violent attire
X-ALT-DESC;FMTTYPE=text/html:<strong><u><span style="border:none windowtext 1.0pt\;padding:0in\;"><span style="color:#9900FF\;"><span style="font-family:segoe ui emoji\,sans-serif\;">&#127875\;&#127809\;&#127875\;&#127810\;&#127875\;</span></span></span></u></strong>&nbsp\;<strong><u><span style="color:#FF9900\;"><span style="font-family:arial\,sans-serif\;"><span style="font-size:13.5pt\;">PUMPKINFEST</span></span></span></u></strong>&nbsp\;<strong><u><span style="border:none windowtext 1.0pt\;padding:0in\;"><span style="color:#9900FF\;"><span style="font-family:segoe ui emoji\,sans-serif\;">&#127875\;&#127809\;&#127875\;&#127810\;&#127875\;</span></span></span></u></strong><br />\n<strong><span style="color:black\;"><span style="font-family:arial\,sans-serif\;">Thursday\, 10/31 |&nbsp\;6:30-8:00pm&nbsp\;| FBC&#39\;s&nbsp\;Gym</span></span></strong><br />\n<span style="color:black\;"><span style="font-family:arial\,sans-serif\;"><span style="font-size:11.0pt\;">PumpkinFest provides a FREE festive\, carnival-type atmosphere INDOORS.&nbsp\; Kids and their parents can enjoy an evening of FREE games\, food and treats (no tricks!).&nbsp\; Hot coffee\, popcorn\, and cotton candy will be served.&nbsp\; If the weather is rainy or cold\, this is a great alternative to trick-or-treating!&nbsp\; Or stop by after you&rsquo\;re finished trick-or-treating\, have more fun and get more candy!&nbsp\; This is a children&rsquo\;s event and costumes should be &ldquo\;G&rdquo\; rated&mdash\;please no scary or violent attire</span></span></span>
LOCATION:First Baptist Church 1635 76th Street South Haven\, MI 49090
UID:e.2015.8519
SEQUENCE:3
DTSTAMP:20260422T015834Z
URL:https://www.southhavenmi.com/events/details/pumkinfest-at-first-baptist-church-8519
END:VEVENT

END:VCALENDAR
