BEGIN:VCALENDAR
VERSION:2.0
PRODID:-//ChamberMaster//Event Calendar 2.0//EN
METHOD:PUBLISH
X-PUBLISHED-TTL:P3D
REFRESH-INTERVAL:P3D
CALSCALE:GREGORIAN
BEGIN:VEVENT
DTSTART;VALUE=DATE:20241002
DTEND;VALUE=DATE:20241003
TRANSP:TRANSPARENT
X-MICROSOFT-CDO-ALLDAYEVENT:TRUE
SUMMARY:Rosh Hashanah
DESCRIPTION:ROSH HASHANAH\n\nROSH HASHANAH EVE \n\nWednesday\, October 2\, 2024\n\nErev Rosh Hashanah   8:00PM
X-ALT-DESC;FMTTYPE=text/html:<strong><span style="border:none windowtext 1.0pt\;padding:0in\;"><span style="color:#444444\;"><span style="font-family:open sans\,sans-serif\;"><span style="font-size:10.5pt\;">ROSH HASHANAH</span></span></span></span></strong><br />\n<span style="border:none windowtext 1.0pt\;padding:0in\;"><span style="color:#444444\;"><span style="font-family:open sans\,sans-serif\;"><span style="font-size:10.5pt\;">ROSH HASHANAH EVE&nbsp\;</span></span></span></span><br />\n<span style="color:#444444\;"><span style="font-family:open sans\,sans-serif\;"><span style="font-size:10.5pt\;">Wednesday\, October 2\, 2024<br />\nErev Rosh Hashanah &ndash\; 8:00PM</span></span></span><br />\n&nbsp\;
LOCATION:
UID:e.2015.8542
SEQUENCE:3
DTSTAMP:20260422T015434Z
URL:https://www.southhavenmi.com/events/details/rosh-hashanah-8542
END:VEVENT

END:VCALENDAR
