BEGIN:VCALENDAR
VERSION:2.0
PRODID:-//ChamberMaster//Event Calendar 2.0//EN
METHOD:PUBLISH
X-PUBLISHED-TTL:P3D
REFRESH-INTERVAL:P3D
CALSCALE:GREGORIAN
BEGIN:VEVENT
DTSTART;VALUE=DATE:20241003
DTEND;VALUE=DATE:20241004
TRANSP:TRANSPARENT
X-MICROSOFT-CDO-ALLDAYEVENT:TRUE
SUMMARY:ROSH HASHANAH DAY (First Day)
DESCRIPTION:ROSH HASHANAH DAY (First Day)\n\nThursday\, October 3\, 2024\n\nMorning Service   10:00AM
X-ALT-DESC;FMTTYPE=text/html:<strong><span style="border:none windowtext 1.0pt\;padding:0in\;"><span style="color:#444444\;"><span style="font-family:open sans\,sans-serif\;"><span style="font-size:10.5pt\;">ROSH HASHANAH DAY (First Day)</span></span></span></span></strong><br />\n<span style="color:#444444\;"><span style="font-family:open sans\,sans-serif\;"><span style="font-size:10.5pt\;">Thursday\, October 3\, 2024<br />\nMorning Service &ndash\; 10:00AM</span></span></span><br />\n&nbsp\;
LOCATION:
UID:e.2015.8543
SEQUENCE:3
DTSTAMP:20260422T015535Z
URL:https://www.southhavenmi.com/events/details/rosh-hashanah-day-first-day-8543
END:VEVENT

END:VCALENDAR
