BEGIN:VCALENDAR
VERSION:2.0
PRODID:-//ChamberMaster//Event Calendar 2.0//EN
METHOD:PUBLISH
X-PUBLISHED-TTL:P3D
REFRESH-INTERVAL:P3D
CALSCALE:GREGORIAN
BEGIN:VEVENT
DTSTART:20140426T220000Z
DTEND:20140427T010000Z
X-MICROSOFT-CDO-ALLDAYEVENT:FALSE
SUMMARY:Rotary Fundraiser for Education
DESCRIPTION:South Have Future: Changing lives and building community through education. 11th Annual Rotary Sponsored Fundraising Dinner on Saturday\, April 26th at Beach Haven Event Center.\n\nThe Rotary Club of South Haven is proud to continue our investment in the education and career growth of South Haven area residents by sponsoring its 11th annual Rotary Fundraising Event for South Haven's Future. A great time for a great cause! Semi-formal attire\, please.
X-ALT-DESC;FMTTYPE=text/html:South Have Future: Changing lives and building community through education. 11th Annual Rotary Sponsored Fundraising Dinner on Saturday\, April 26th at Beach Haven Event Center.<br />\nThe Rotary Club of South Haven is proud to continue our investment in the education and career growth of South Haven area residents by sponsoring its 11th annual Rotary Fundraising Event for South Haven&#39\;s Future. A great time for a great cause! Semi-formal attire\, please.
LOCATION:Beach Haven Event Center 10420 M-140\, South Haven
UID:e.2015.351
SEQUENCE:3
DTSTAMP:20260423T072523Z
URL:https://www.southhavenmi.com/events/details/rotary-fundraiser-for-education-04-26-2014-351
END:VEVENT

END:VCALENDAR
