BEGIN:VCALENDAR
VERSION:2.0
PRODID:-//ChamberMaster//Event Calendar 2.0//EN
METHOD:PUBLISH
X-PUBLISHED-TTL:P3D
REFRESH-INTERVAL:P3D
CALSCALE:GREGORIAN
BEGIN:VEVENT
DTSTART:20180721T210000Z
DTEND:20180722T020000Z
X-MICROSOFT-CDO-ALLDAYEVENT:FALSE
SUMMARY:Rhythm on the River
DESCRIPTION:Foundry Hall's Rhythm on the River music festival will be held Friday and Saturday\, July 20-21 at the riverfront near the South Marina on Water St.
X-ALT-DESC;FMTTYPE=text/html:Foundry Hall&#39\;s Rhythm on the River music festival will be held Friday and Saturday\, July 20-21 at the riverfront near the South Marina on Water St.
LOCATION:
UID:e.2015.4776
SEQUENCE:3
DTSTAMP:20260421T104207Z
URL:https://www.southhavenmi.com/events/details/rythm-on-the-river-07-21-2018-4776
END:VEVENT

END:VCALENDAR
