BEGIN:VCALENDAR
VERSION:2.0
PRODID:-//ChamberMaster//Event Calendar 2.0//EN
METHOD:PUBLISH
X-PUBLISHED-TTL:P3D
REFRESH-INTERVAL:P3D
CALSCALE:GREGORIAN
BEGIN:VEVENT
DTSTART;VALUE=DATE:20241023
DTEND;VALUE=DATE:20241024
TRANSP:TRANSPARENT
X-MICROSOFT-CDO-ALLDAYEVENT:TRUE
SUMMARY:Salem Witch Trials in Your Family Tree
DESCRIPTION:South Haven Historical Association\n\nKim Roe-Kester\, local historian & genealogist will present "Salem Witch Trials in Your Family Tree"
X-ALT-DESC;FMTTYPE=text/html:South Haven Historical Association<br />\nKim Roe-Kester\, local historian &amp\; genealogist will present &quot\;Salem Witch Trials in Your Family Tree&quot\;<br />\n&nbsp\;
LOCATION:Hartman School 355 Hubbard Street South Haven\, MI 49090
UID:e.2015.7671
SEQUENCE:3
DTSTAMP:20260422T015653Z
URL:https://www.southhavenmi.com/events/details/salem-witch-trials-in-your-family-tree-7671
END:VEVENT

END:VCALENDAR
