BEGIN:VCALENDAR
VERSION:2.0
PRODID:-//ChamberMaster//Event Calendar 2.0//EN
METHOD:PUBLISH
X-PUBLISHED-TTL:P3D
REFRESH-INTERVAL:P3D
CALSCALE:GREGORIAN
BEGIN:VEVENT
DTSTART;VALUE=DATE:20220423
DTEND;VALUE=DATE:20220424
TRANSP:TRANSPARENT
X-MICROSOFT-CDO-ALLDAYEVENT:TRUE
SUMMARY:Scott Club Concert Series
DESCRIPTION:Scott Club Concert Series\n\n \n\nSaturday\, April 23 at 7:00 pm\, Classical Concert\n\nfeaturing pianist Connor Austell \n\n \n\nFree and Open to All!\n\n \n\nSouth Haven Scott Club - 652 Phoenix Street\n\n\n\nThe Scott Club Concert Series showcasing the Everett concert grand piano begins its spring series with a South Haven native\, Connor Austell. His performance will include classical works by Leo  Jan  ek\, Alberto Ginastera\, Frederic Rzewski\, and Thomas Wiggins. Join us in person (limited capacity   reservations required)** or virtually for this free concert!\n\n**To be an audience member\, a reservation is required\, and the Scott Club needs to confirm your vaccination status at the door. Masks are required in the Scott Club. Please email the Scott Club (info@scottclub.org) to reserve your spot. This concert will also be streamed live on the Foundry Hall twitch channel www.twitch.tv/foundryhall and the South Haven Scott Club's Facebook page.\n\nPianist Connor Austell received his musical education at the University of Michigan and at Grand Valley State University under the tutelage of Arthur Greene\, Sookkyung Cho\, and Giuseppe Lupis. He studied chamber music with Katherine Collier\, Helen Marlais\, and Pablo Mahave-Veglia\, and has participated in masterclasses with world-class artists such as Jonathan Biss and Martin Katz. Connor is currently a doctoral candidate at the University of Georgia\, Athens\, where he studies piano with David Fung and teaches courses in music theory.\n\nThis concert series is a collaboration between the South Haven Scott Club and Foundry Hall\, and is made possible in part by generous grant funding from The Greater South Haven Area Community Foundation and Entergy Palisades Power Plant.
X-ALT-DESC;FMTTYPE=text/html:<strong><span style="color:#4C76A2\;"><span style="font-family:arial\,sans-serif\;"><span style="font-size:14.0pt\;">Scott Club Concert Series</span></span></span></strong><br />\n&nbsp\;<br />\n<strong><span style="color:#4C76A2\;"><span style="font-family:arial\,sans-serif\;"><span style="font-size:14.0pt\;">Saturday\, April 23 at 7:00 pm\, Classical Concert</span></span></span></strong><br />\n<strong><span style="color:#4C76A2\;"><span style="font-family:arial\,sans-serif\;"><span style="font-size:14.0pt\;">featuring pianist Connor Austell&nbsp\;</span></span></span></strong><br />\n&nbsp\;<br />\n<strong><span style="color:#4C76A2\;"><span style="font-family:arial\,sans-serif\;"><span style="font-size:14.0pt\;">Free and Open to All!</span></span></span></strong><br />\n&nbsp\;<br />\n<strong><span style="color:#4C76A2\;"><span style="font-family:arial\,sans-serif\;"><span style="font-size:14.0pt\;">South Haven Scott Club - 652 Phoenix Street</span></span></span></strong><br />\n<br />\n<span style="color:#1D2228\;"><span style="font-family:arial\,sans-serif\;"><span style="font-size:12.0pt\;">The Scott Club Concert Series showcasing the Everett concert grand piano begins its spring series with a South Haven native\, Connor Austell. His performance will include classical works by Leo&scaron\; Jan&aacute\;&#269\;ek\, Alberto Ginastera\, Frederic Rzewski\, and Thomas Wiggins. Join us in person (limited capacity &ndash\; reservations required)** or virtually for this free concert!</span></span></span><br />\n<strong><em><span style="background:white\;"><span style="color:#1D2228\;"><span style="font-family:arial\,sans-serif\;"><span style="font-size:12.0pt\;">**To be an audience member</span></span></span></span></em></strong><em><span style="background:white\;"><span style="color:#1D2228\;"><span style="font-family:arial\,sans-serif\;"><span style="font-size:12.0pt\;">\,<strong>&nbsp\;a reservation is required</strong>\,<strong>&nbsp\;and the Scott Club needs to confirm your vaccination status at the door.</strong></span></span></span></span></em><span style="background:white\;"><span style="color:#1D2228\;"><span style="font-family:arial\,sans-serif\;"><span style="font-size:12.0pt\;">&nbsp\;<strong><em>Masks are required in the Scott Club. Please email the Scott Club (</em></strong></span></span></span></span><span style="font-family:helvetica\,sans-serif\;"><span style="font-size:12.0pt\;"><a href="mailto:info@scottclub.org" target="_blank"><strong><em><span style="background:white\;"><span style="font-family:arial\,sans-serif\;">info@scottclub.org</span></span></em></strong></a></span></span><strong><em><span style="background:white\;"><span style="color:#1D2228\;"><span style="font-family:arial\,sans-serif\;"><span style="font-size:12.0pt\;">) to reserve your spot.</span></span></span></span></em></strong><span style="background:white\;"><span style="color:#1D2228\;"><span style="font-family:arial\,sans-serif\;"><span style="font-size:12.0pt\;">&nbsp\;<strong><em>This concert will also be streamed live on the Foundry Hall twitch channel&nbsp\;</em></strong></span></span></span></span><span style="font-family:helvetica\,sans-serif\;"><span style="font-size:12.0pt\;"><a href="http://www.twitch.tv/foundryhall" target="_blank"><strong><em><span style="background:white\;"><span style="color:#196AD4\;"><span style="font-family:arial\,sans-serif\;">www.twitch.tv/foundryhall</span></span></span></em></strong></a></span></span><strong><em><span style="background:white\;"><span style="color:#1D2228\;"><span style="font-family:arial\,sans-serif\;"><span style="font-size:12.0pt\;">&nbsp\;and the South Haven Scott Club&#39\;s Facebook page.</span></span></span></span></em></strong><br />\n<span style="color:#1D2228\;"><span style="font-family:arial\,sans-serif\;"><span style="font-size:12.0pt\;">Pianist Connor Austell received his musical education at the University of Michigan and at Grand Valley State University under the tutelage of Arthur Greene\, Sookkyung Cho\, and Giuseppe Lupis. He studied chamber music with Katherine Collier\, Helen Marlais\, and Pablo Mahave-Veglia\, and has participated in masterclasses with world-class artists such as Jonathan Biss and Martin Katz. Connor is currently a doctoral candidate at the University of Georgia\, Athens\, where he studies piano with David Fung and teaches courses in music theory.</span></span></span><br />\n<em><span style="color:#1D2228\;"><span style="font-family:arial\,sans-serif\;"><span style="font-size:12.0pt\;">This concert series is a collaboration between the South Haven Scott Club and Foundry Hall\, and is made possible in part by generous grant funding from The Greater South Haven Area Community Foundation and Entergy Palisades Power Plant.</span></span></span></em><br />\n&nbsp\;
LOCATION:
UID:e.2015.6491
SEQUENCE:3
DTSTAMP:20260424T060244Z
URL:https://www.southhavenmi.com/events/details/scott-club-concert-series-6491
END:VEVENT

END:VCALENDAR
