BEGIN:VCALENDAR
VERSION:2.0
PRODID:-//ChamberMaster//Event Calendar 2.0//EN
METHOD:PUBLISH
X-PUBLISHED-TTL:P3D
REFRESH-INTERVAL:P3D
CALSCALE:GREGORIAN
BEGIN:VEVENT
DTSTART:20140419T140000Z
DTEND:20140419T200000Z
X-MICROSOFT-CDO-ALLDAYEVENT:FALSE
SUMMARY:SH Masonic Celebration
DESCRIPTION:On Saturday\, April 19\, 2014 Star of the Lake Lodge #158 F & A.M. will be celebrating the 100th year anniversary of its current Masonic Temple at 321 Center Street and 150th anniversary of the organization in South Haven.\n\n\n\nThe public is invited to attend the celebration including historic building tours from 10:00am - 4:00pm with a short historical program at 12:00pm followed by a light lunch.\n\n\n\nThe building is currently home to two masonic fraternal organizations\, and its function hall is used for a variety of activities and events\, including dinners and educational programs.\n\n\n\nIn attendance will be members of local and state Free and Accepted Mason lodges\, Scottish Rite bodies\, York Rite bodies\, Shriners and Order of the Eastern Star\, distinguished guests from the Grand Lodge of Michigan\, Scottish Rite\, York Rite and Shriners\, along with local public service representatives.\n\n\n\nFor more information\, visit www.starofthelake.com
X-ALT-DESC;FMTTYPE=text/html:On Saturday\, April 19\, 2014 Star of the Lake Lodge #158 F &amp\; A.M. will be celebrating the 100th year anniversary of its current Masonic Temple at 321 Center Street and 150th anniversary of the organization in South Haven.<br />\n<br />\nThe public is invited to attend the celebration including historic building tours from 10:00am - 4:00pm with a short historical program at 12:00pm followed by a light lunch.<br />\n<br />\nThe building is currently home to two masonic fraternal organizations\, and its function hall is used for a variety of activities and events\, including dinners and educational programs.<br />\n<br />\nIn attendance will be members of local and state Free and Accepted Mason lodges\, Scottish Rite bodies\, York Rite bodies\, Shriners and Order of the Eastern Star\, distinguished guests from the Grand Lodge of Michigan\, Scottish Rite\, York Rite and Shriners\, along with local public service representatives.<br />\n<br />\nFor more information\, visit <a href="http://www.starofthelake.com" target="_blank">www.starofthelake.com</a>
LOCATION:321 Center St. South Haven\, MI
UID:e.2015.329
SEQUENCE:3
DTSTAMP:20260420T021446Z
URL:https://www.southhavenmi.com/events/details/sh-masonic-celebration-04-19-2014-329
END:VEVENT

END:VCALENDAR
