BEGIN:VCALENDAR
VERSION:2.0
PRODID:-//ChamberMaster//Event Calendar 2.0//EN
METHOD:PUBLISH
X-PUBLISHED-TTL:P3D
REFRESH-INTERVAL:P3D
CALSCALE:GREGORIAN
BEGIN:VEVENT
DTSTART:20161211T200000Z
DTEND:20161211T200000Z
X-MICROSOFT-CDO-ALLDAYEVENT:FALSE
SUMMARY:Shoreline Dance Academy Celebrate!
DESCRIPTION:The talented students at Shoreline Dance Academy will be performing Celebrate! on December 10th at 6pm and December 11th at 3pm! Doors open 45 minutes prior to showtime.\n\n\n\nPre-sale tickets are $8 for kids and seniors\, $10 for adults. Prices go up to $12 for tickets purchased after December 4th. Go to www.shorelinedanceacademy.net to purchase your tickets!
X-ALT-DESC;FMTTYPE=text/html:The talented students at <a class="profileLink" data-hovercard="/ajax/hovercard/page.php?id=174523794706" data-hovercard-prefer-more-content-show="1" href="https://business.facebook.com/southhavendanceacademy/?business_id=1733199580295910">Shoreline Dance Academy</a> will be performing Celebrate! on December 10th at 6pm and December 11th at 3pm! Doors open 45 minutes prior to showtime.<br />\n<br />\nPre-sale tickets are $8 for kids and seniors\, $10 for adults. Prices go up to $12 for tickets purchased after December 4th. Go to <a href="http://l.facebook.com/l.php?u=http%3A%2F%2Fwww.shorelinedanceacademy.net%2F&amp\;h=bAQHdGAdpAQH0FsLq1xb27k-RbN-Y5G5V8uihqXjkXr_d-Q&amp\;enc=AZNIYZh5oGbx6SkA29ofDg8ei_QyFjqQGF2SnkkBC7QgSDoAJXy_6TQrHmLBjOC5WjITKK1wb_guzf1_bZI0UIrdhHzHqoDS0cXC_yR6beZ95oEgvq2U0hzuH3fS4X1958zroVzceFHOC4lZ_DXWL1WJKpRR4JCc0rDc5-gLRmrhtjkIoNG3_WQnbZl96HC6jCZPP3gM6BiHhi1jaQd4boQD&amp\;s=1" rel="nofollow" target="_blank">www.shorelinedanceacademy.net</a> to purchase your tickets!
LOCATION:
UID:e.2015.3320
SEQUENCE:3
DTSTAMP:20260426T005211Z
URL:https://www.southhavenmi.com/events/details/shoreline-dance-academy-celebrate-3320
END:VEVENT

END:VCALENDAR
