BEGIN:VCALENDAR
VERSION:2.0
PRODID:-//ChamberMaster//Event Calendar 2.0//EN
METHOD:PUBLISH
X-PUBLISHED-TTL:P3D
REFRESH-INTERVAL:P3D
CALSCALE:GREGORIAN
BEGIN:VEVENT
DTSTART;VALUE=DATE:20140719
DTEND;VALUE=DATE:20140720
TRANSP:TRANSPARENT
X-MICROSOFT-CDO-ALLDAYEVENT:TRUE
SUMMARY:SHYC Dinghy Parade
DESCRIPTION:South Haven Yacht Club Dinghy Parade! Come see all the wacky and wonderful dinghy boat entries decorated in unbelievable ways! This is a FUN event! Open to the public! For more information\, visit http://shdinghyparade.com/
X-ALT-DESC;FMTTYPE=text/html:South Haven Yacht Club Dinghy Parade! Come see all the wacky and wonderful dinghy boat entries decorated in unbelievable ways! This is a FUN event! Open to the public! For more information\, visit <a href="http://shdinghyparade.com/" target="_blank">http://shdinghyparade.com/ </a>
LOCATION:
UID:e.2015.341
SEQUENCE:3
DTSTAMP:20260421T080650Z
URL:https://www.southhavenmi.com/events/details/shyc-dinghy-parade-07-19-2014-341
END:VEVENT

END:VCALENDAR
