BEGIN:VCALENDAR
VERSION:2.0
PRODID:-//ChamberMaster//Event Calendar 2.0//EN
METHOD:PUBLISH
X-PUBLISHED-TTL:P3D
REFRESH-INTERVAL:P3D
CALSCALE:GREGORIAN
BEGIN:VEVENT
DTSTART:20241109T170000Z
DTEND:20241109T183000Z
X-MICROSOFT-CDO-ALLDAYEVENT:FALSE
SUMMARY:Sound Healing Experience Infused with Reiki
DESCRIPTION:We cordially invite you to join us for this powerful 2-in-1 simultaneous immersion of sacred instruments (by Brian Alan) combined with laying-on-of-hands spiritual healing/intercessory prayer (by Opal Sceptre\, Reiki Master-Teacher).  And as an added facet\, each participant may join us (during the final 15 mins.) for a conscious Energy embodying experience in the chanting of the underlying\, organic sound of 'AUM' (a.k.a.: 'Amen'/'Aho'). Surely we look forward to seeing you soon\, for this uniquely fulfilling one!!!\n\n \n\nIn a group Sound Immersion Experience\, an integrated combination of Sacred Instruments will be used to facilitate relaxation\, peace\, and well-being enhancing One's outlook and general state of consciousness by harmonizing the body\, mind\, emotions\, and spirit back to their natural state of balance: Sound Body - Sound Mind - Sound Emotions - Sound Spirit! Instruments that may be used are: Quartz Crystal Singing Bowls(432Hz.)\; Gongs & Chinese Cymbals\; Tibetan Singing Bowls & Bell\; Chimes & Tuning Fork\; Drums\, Rattles\, & Rain Stick\; Crystal Pyramid\; and\, Vocal Toning and/or Chanting.\n\n  \n\n*Most people prefer to be lying down\, during this 1.5-hr. Session\; please do bring a Yoga mat or other suitable base to lay on - as well as (possibly) a blanket and/or pillow\, relative to your particular comfort needs.  Additionally\, a bottle of drinking water may be beneficial.\n\n \n\n**The 'suggested offering' amount per participating individual is: 20 - accepted only in the form of 'cash' Thank You.\n\n \n\n***For inquiries\, contact Brian:  (269) 303-3523.
X-ALT-DESC;FMTTYPE=text/html:<span style="color:#222222"><span style="font-family:garamond\,serif"><span style="font-size:13.0pt">We cordially invite you to join us for this powerful 2-in-1 simultaneous immersion of sacred instruments (by Brian Alan) combined with laying-on-of-hands spiritual healing/intercessory prayer (by Opal Sceptre\, Reiki Master-Teacher). &hellip\;And as an added facet\, each participant may join us (during the final 15 mins.) for a conscious Energy embodying experience in the chanting of the underlying\, organic sound of &lsquo\;AUM&rsquo\; (a.k.a.: &#39\;Amen&#39\;/&#39\;Aho&#39\;). Surely we look forward to seeing you soon\, for this uniquely fulfilling one!!!</span></span></span><br />\n&nbsp\;<br />\n<span style="color:#222222"><span style="font-family:garamond\,serif"><span style="font-size:13.0pt">In a group Sound Immersion Experience\, an integrated combination of Sacred Instruments will be used to facilitate relaxation\, peace\, and well-being&hellip\;enhancing One&#39\;s outlook and general state of consciousness by harmonizing the body\, mind\, emotions\, and spirit back to their natural state of balance:&nbsp\;Sound Body - Sound Mind - Sound Emotions - Sound Spirit! Instruments that may be used are:&nbsp\;Quartz Crystal Singing Bowls(432Hz.)\; Gongs &amp\; Chinese Cymbals\; Tibetan Singing Bowls &amp\; Bell\; Chimes &amp\; Tuning Fork\; Drums\, Rattles\, &amp\; Rain Stick\; Crystal Pyramid\; and\, Vocal Toning and/or Chanting.</span></span></span><br />\n&nbsp\;&nbsp\;<br />\n<span style="color:#222222"><span style="font-family:garamond\,serif"><span style="font-size:13.0pt">*Most people prefer to be lying down\, during this 1.5-hr. Session\; please do bring a Yoga mat or other suitable base to lay on - as well as (possibly) a blanket and/or pillow\, relative to your particular comfort needs.&nbsp\; Additionally\, a bottle of drinking water may be beneficial.</span></span></span><br />\n&nbsp\;<br />\n<span style="color:#222222"><span style="font-family:garamond\,serif"><span style="font-size:13.0pt">**The &#39\;suggested offering&#39\; amount per participating individual is: 20 - accepted only in the form of &lsquo\;cash&rsquo\;&hellip\;Thank You.</span></span></span><br />\n&nbsp\;<br />\n<span style="color:#222222"><span style="font-family:garamond\,serif"><span style="font-size:12.0pt">***For inquiries\, contact Brian:&nbsp\; (269) 303-3523.</span></span></span>
LOCATION:Church of the Epiphany 410 Erie Street South Haven\, MI 49090
UID:e.2015.8723
SEQUENCE:3
DTSTAMP:20260422T001325Z
URL:https://www.southhavenmi.com/events/details/sound-healing-experience-infused-with-reiki-11-09-2024-8723
END:VEVENT

END:VCALENDAR
