BEGIN:VCALENDAR
VERSION:2.0
PRODID:-//ChamberMaster//Event Calendar 2.0//EN
METHOD:PUBLISH
X-PUBLISHED-TTL:P3D
REFRESH-INTERVAL:P3D
CALSCALE:GREGORIAN
BEGIN:VEVENT
DTSTART:20230923T120000Z
DTEND:20230923T180000Z
X-MICROSOFT-CDO-ALLDAYEVENT:FALSE
SUMMARY:South Haven Farm Market
DESCRIPTION:SOUTH HAVEN FARM MARKET\n\n\n\nThe South Haven Farm Market has been an important part of our community for many years.  It provides a direct link between the agricultural community and people who value fresh\, local produce and farm products! Located downtown at the Huron St. Pavilion\, the Market runs from 8am-2pm Saturdays from Mid-May - Mid-October\, and Wednesdays June - August. \n\n\n2023 Market Hours of Operation\n\n \n\nThe Market is open from 8am to 2pm Saturday\, May 13\, 2023\n\nthrough Saturday\, October 14\, 2023 and June\, July and August on Wednesdays from 8am to 2pm\n\n \n\nThe mission of the South Haven Farm Market is to operate a vibrant farm market that contributes to the success of local food growers and products that strengthen our economy and serves as a community gathering place.
X-ALT-DESC;FMTTYPE=text/html:<div class="KcpHeO tz5f0K mainPage_WRichText_0 wixui-rich-text" data-testid="richTextElement" id="mainPage_WRichText_0">\n<h2 class="font_2 wixui-rich-text__text" style="font-size:40px\; line-height:1.1em\; text-align:center\;"><span class="wixui-rich-text__text" style="letter-spacing:0.04em\;"><span class="wixui-rich-text__text" style="font-weight:bold\;"><span class="wixui-rich-text__text" style="font-family:avenir-lt-w01_35-light1475496\,avenir-lt-w05_35-light\,sans-serif\;"><span class="wixui-rich-text__text" style="font-size:40px\;"><span class="wixui-rich-text__text" style="color:#8B0000\;">SOUTH HAVEN FARM MARKET</span></span></span></span></span></h2>\n</div>\n\n<div class="KcpHeO tz5f0K comp-kxjf45oa wixui-rich-text" data-testid="richTextElement" id="comp-kxjf45oa">\n<h1 class="font_0 wixui-rich-text__text" style="line-height:0.75em\; text-align:center\; font-size:33px\;"><span class="wixui-rich-text__text" style="color:#221b23\;"><span class="wixui-rich-text__text" style="font-weight:400\;"><span class="wixui-rich-text__text" style="font-family:avenir-lt-w01_35-light1475496\,avenir-lt-w05_35-light\,sans-serif\;"><span class="wixui-rich-text__text" style="font-size:20px\;"><span class="wixui-rich-text__text" style="letter-spacing:normal\;"><span class="color_15 wixui-rich-text__text" style="font-style:normal\; font-weight:normal\;">The South Haven Farm Market has been an important part of our community for many years.&nbsp\; It provides a direct link between the agricultural community and people who value fresh\, local produce and farm products! Located downtown at the Huron St. Pavilion\, the Market runs from 8am-2pm Saturdays from Mid-May - Mid-October\, and Wednesdays June - August.&nbsp\;</span></span></span></span></span></span></h1>\n</div>\n\n<h3 class="font_3 wixui-rich-text__text" style="font-size:24px\; line-height:1.1em\; text-align:center\;"><span class="wixui-rich-text__text" style="font-size:24px\;">2023 Market Hours of Operation</span></h3>\n\n<h3 class="font_3 wixui-rich-text__text" style="font-size:14px\; line-height:1.1em\; text-align:center\;"><span class="wixui-rich-text__text" style="font-size:14px\;"><span class="wixGuard wixui-rich-text__text">&#8203\;</span></span></h3>\n\n<p class="font_8 wixui-rich-text__text" style="font-size:13px\; text-align:center\;"><span class="wixui-rich-text__text" style="font-weight:bold\;"><span class="wixui-rich-text__text" style="font-size:13px\;">The Market is open&nbsp\;</span><span class="wixui-rich-text__text" style="font-size:13px\;">from 8am to 2pm Saturday\, May 13\, 2023</span></span></p>\n\n<p class="font_8 wixui-rich-text__text" style="font-size:13px\; text-align:center\;"><span class="wixui-rich-text__text" style="font-weight:bold\;"><span class="wixui-rich-text__text" style="font-size:13px\;">through Saturday\, October 14\, 2023 and&nbsp\;</span></span><span class="wixui-rich-text__text" style="font-weight:bold\;"><span class="wixui-rich-text__text" style="font-size:13px\;">June\, July and August on Wednesdays from 8am to 2pm</span></span></p>\n\n<p class="font_8 wixui-rich-text__text" style="font-size:13px\; text-align:center\;"><span class="wixui-rich-text__text" style="font-weight:bold\;"><span class="wixui-rich-text__text" style="font-size:13px\;"><span class="wixGuard wixui-rich-text__text">&#8203\;</span></span></span></p>\n\n<h3 class="font_3 wixui-rich-text__text" style="font-size:15px\; line-height:1.1em\; text-align:justify\;"><span class="wixui-rich-text__text" style="font-size:15px\;"><span class="wixui-rich-text__text" style="font-family:avenir-lt-w01_35-light1475496\,avenir-lt-w05_35-light\,sans-serif\;"><span class="wixui-rich-text__text" style="font-weight:bold\;"><span class="wixui-rich-text__text" style="letter-spacing:normal\;"><span class="wixui-rich-text__text" style="color:rgb(0\, 0\, 0)\;">The mission of the South Haven Farm Market is to operate a vibrant farm market that contributes to the success of local food growers and products that strengthen our economy and serves as a community gathering place.</span></span></span></span></span></h3>\n
LOCATION:
UID:e.2015.7092
SEQUENCE:3
DTSTAMP:20260425T133241Z
URL:https://www.southhavenmi.com/events/details/south-haven-farm-market-09-23-2023-7092
END:VEVENT

END:VCALENDAR
