BEGIN:VCALENDAR
VERSION:2.0
PRODID:-//ChamberMaster//Event Calendar 2.0//EN
METHOD:PUBLISH
X-PUBLISHED-TTL:P3D
REFRESH-INTERVAL:P3D
CALSCALE:GREGORIAN
BEGIN:VEVENT
DTSTART:20140426T180000Z
DTEND:20140426T180000Z
X-MICROSOFT-CDO-ALLDAYEVENT:FALSE
SUMMARY:South Haven's Racing Classics
DESCRIPTION:Have you ever seen vintage museum boats that still sail? You can have this unique experience at the Michigan Maritime Museum in South Haven.\n\nOn Saturday\, April 26th at 2:00pm\, Jim Spurr will present a fascinating period of Michigan's maritime history: sailing champions of the 1920s - 1950s\, as exemplified by the museum's own Bernida and Flashback.\n\nSpurr is an avid sailor\, with more than 35 years of sailing experience including full rigged ships and has a love for maritime history and of all things nautical.\n\nThe two racing champions have dramatic stories and represent developments in yachting still impacting us all as racing and recreational boaters.\n\nAppreciate these antiques\, enjoy their dramatic stories and soon experience their impressive sailing performances as crew or passengers!
X-ALT-DESC;FMTTYPE=text/html:Have you ever seen vintage museum boats that still sail? You can have this unique experience at the Michigan Maritime Museum in South Haven.<br />\nOn Saturday\, April 26th at 2:00pm\, Jim Spurr will present a fascinating period of Michigan&#39\;s maritime history: sailing champions of the 1920s - 1950s\, as exemplified by the museum&#39\;s own<em> Bernida</em> and<em> Flashback</em>.<br />\nSpurr is an avid sailor\, with more than 35 years of sailing experience including full rigged ships and has a love for maritime history and of all things nautical.<br />\nThe two racing champions have dramatic stories and represent developments in yachting still impacting us all as racing and recreational boaters.<br />\nAppreciate these antiques\, enjoy their dramatic stories and soon experience their impressive sailing performances as crew or passengers!
LOCATION:Michigan Maritime Museum
UID:e.2015.352
SEQUENCE:3
DTSTAMP:20260421T091201Z
URL:https://www.southhavenmi.com/events/details/south-haven-s-racing-classics-04-26-2014-352
END:VEVENT

END:VCALENDAR
