BEGIN:VCALENDAR
VERSION:2.0
PRODID:-//ChamberMaster//Event Calendar 2.0//EN
METHOD:PUBLISH
X-PUBLISHED-TTL:P3D
REFRESH-INTERVAL:P3D
CALSCALE:GREGORIAN
BEGIN:VEVENT
DTSTART:20170418T223000Z
DTEND:20170418T223000Z
X-MICROSOFT-CDO-ALLDAYEVENT:FALSE
SUMMARY:Spring Celebration of Life
DESCRIPTION:Spring Celebration of Life\n\nWe invite you\, your family members\, and friends to this special service of remembrance presented by Caring circle\, which includes Hospice at Home and Lory's Place. We encourage you to share this invitation with those closest to you. Community friends who have experienced a death are also warmly invited to attend.\n\nPlease bring a small memento or photograph that reflects your loved one's life. There will be an opportunity to share the significance of this item during the service.\n\nLight refreshments will be served. Please RSVP to Trisha Pickett\, Bereavement and Donor Support Coordinator for Caring Circle and Lory's Place.
X-ALT-DESC;FMTTYPE=text/html:Spring Celebration of Life<br />\nWe invite you\, your family members\, and friends to this special service of remembrance presented by Caring circle\, which includes Hospice at Home and Lory&#39\;s Place. We encourage you to share this invitation with those closest to you. Community friends who have experienced a death are also warmly invited to attend.<br />\nPlease bring a small memento or photograph that reflects your loved one&#39\;s life. There will be an opportunity to share the significance of this item during the service.<br />\nLight refreshments will be served. Please RSVP to Trisha Pickett\, Bereavement and Donor Support Coordinator for Caring Circle and Lory&#39\;s Place.
LOCATION:Peace Lutheran Church 06321 Blue Star Memorial Hwy South Haven\, MI 49090
UID:e.2015.3724
SEQUENCE:3
DTSTAMP:20260422T013405Z
URL:https://www.southhavenmi.com/events/details/spring-celebration-of-life-3724
END:VEVENT

END:VCALENDAR
