BEGIN:VCALENDAR
VERSION:2.0
PRODID:-//ChamberMaster//Event Calendar 2.0//EN
METHOD:PUBLISH
X-PUBLISHED-TTL:P3D
REFRESH-INTERVAL:P3D
CALSCALE:GREGORIAN
BEGIN:VEVENT
DTSTART:20160507T210000Z
DTEND:20160507T210000Z
X-MICROSOFT-CDO-ALLDAYEVENT:FALSE
SUMMARY:St. Basil Ribs & Raffle Fundraiser
DESCRIPTION:St. Basil Catholic Schools invites you to attend the 19th Annual Ribs & Raffle Fundraiser on Saturday\, May 7 at 5pm at the Beach Haven Event Center!\n\nTickets are $50 in advance or $55 at the door. Ticket price includes dinner and drinks! This year's theme is Kentucky Derby\, and the race will be aired at the event! In addition\, there will be a live auction\, silent auction\, mystery prize and raffles. Come out to enjoy the festivities and support St. Basil Catholic School!
X-ALT-DESC;FMTTYPE=text/html:St. Basil Catholic Schools invites you to attend the 19th Annual Ribs &amp\; Raffle Fundraiser on Saturday\, May 7 at 5pm at the Beach Haven Event Center!<br />\nTickets are $50 in advance or $55 at the door. Ticket price includes dinner and drinks! This year&#39\;s theme is Kentucky Derby\, and the race will be aired at the event! In addition\, there will be a live auction\, silent auction\, mystery prize and raffles. Come out to enjoy the festivities and support St. Basil Catholic School!
LOCATION:Beach Haven Event Center 10420 M-140 South Haven
UID:e.2015.3143
SEQUENCE:3
DTSTAMP:20260421T091325Z
URL:https://www.southhavenmi.com/events/details/st-basil-ribs-raffle-fundraiser-05-07-2016-3143
END:VEVENT

END:VCALENDAR
