BEGIN:VCALENDAR
VERSION:2.0
PRODID:-//ChamberMaster//Event Calendar 2.0//EN
METHOD:PUBLISH
X-PUBLISHED-TTL:P3D
REFRESH-INTERVAL:P3D
CALSCALE:GREGORIAN
BEGIN:VEVENT
DTSTART:20140219T230000Z
DTEND:20140220T020000Z
X-MICROSOFT-CDO-ALLDAYEVENT:FALSE
SUMMARY:Starting a Business Workshop
DESCRIPTION:This upcoming workshop in Paw Paw will offer aspiring entrepreneurs an opportunity to learn the fundamentals of starting and owning a small business. This will include instruction on writing a comprehensive business plan comprised of the following sections: executive summary\, marketing\, operations\, management\, sales and financials. The cost is $35 and registration is required by calling 269.387.6004 or emailing sctdc-kzoo@wmich.edu. Those who complete the class will be encouraged to pitch their business plan to commercial lenders\, loan guarantors\, and service organizations at a Meet the Lender event on April 24 at Kinexus.
X-ALT-DESC;FMTTYPE=text/html:This upcoming workshop in Paw Paw will offer aspiring entrepreneurs an opportunity to learn the fundamentals of starting and owning a small business. This will include instruction on writing a comprehensive business plan comprised of the following sections: executive summary\, marketing\, operations\, management\, sales and financials. The cost is $35 and registration is required by calling 269.387.6004 or emailing sctdc-kzoo@wmich.edu. Those who complete the class will be encouraged to pitch their business plan to commercial lenders\, loan guarantors\, and service organizations at a Meet the Lender event on April 24 at Kinexus. 
LOCATION:Paw Paw Michigan Works!\, 32849 E. Red Arrow Highway\, Paw Paw\, MI
UID:e.2015.291
SEQUENCE:3
DTSTAMP:20260424T030650Z
URL:https://www.southhavenmi.com/events/details/starting-a-business-workshop-02-19-2014-291
END:VEVENT

END:VCALENDAR
