BEGIN:VCALENDAR
VERSION:2.0
PRODID:-//ChamberMaster//Event Calendar 2.0//EN
METHOD:PUBLISH
X-PUBLISHED-TTL:P3D
REFRESH-INTERVAL:P3D
CALSCALE:GREGORIAN
BEGIN:VEVENT
DTSTART;VALUE=DATE:20241107
DTEND;VALUE=DATE:20241108
TRANSP:TRANSPARENT
X-MICROSOFT-CDO-ALLDAYEVENT:TRUE
SUMMARY:The Path to Homeownership: Navigating Your First Home Purchase
DESCRIPTION:Join Us in South Haven for "The Path to Homeownership"   A Free Event for First-Time Homebuyers\n\nAs your local hometown bank\, we're committed to supporting you in all of life's significant milestones.  We understand that stepping into homeownership can be a daunting journey\, which is why we've organized a special event just for you The Path to Homeownership: Navigating Your First Home Purchase. Join us on November 7th at 5:30 PM at Lake Michigan College's South Haven Campus for an evening filled with expert advice that will help set you up for success on your home buying journey.\n\n \n\nWhy Attend?\n\nBuying a home is a significant investment and comes with many questions. How do I secure a mortgage? What rates are best for me? What paperwork do I need? Our event is tailor-made to answer all these questions and more\, providing you with the knowledge and tools to navigate the complexities of the homebuying process confidently.\n\n \n\nMeet Your Guides\n\nExpertise matters\, especially when it's your first time buying a home. We are thrilled to introduce several of our very own industry experts who will lead this event:\n\n\n	Krissy Larson   South Haven Banking Center (Downtown)\n	Jennifer Postello   South Haven Banking Center (M-43)\n	Heather Scruggs   Bangor Banking Center\n\n\nThese seasoned professionals will share invaluable insights and tips to help you understand everything from securing the best mortgage rates to understanding the fine print.\n\n \n\nWhat You Will Learn\n\nOur speakers will cover a range of topics designed to demystify the homebuying process:\n\nUnderstanding Mortgage Basics: Types of mortgages\, how to apply\, and getting the best rates.\n\nThe Financial Commitment: Evaluating your financial health and understanding the costs beyond the down payment.\n\nNavigating the Market: How to search for homes\, what to expect during viewings\, and how to deal with sellers.\n\nDecoding the Fine Print: Understanding the legal aspects\, contracts\, and what to expect at closing.\n\n \n\nSpecial Features\n\nInteractive Q&A Sessions: Have specific questions? Get them answered directly by our experts.\n\nNetworking Opportunities: Meet fellow first-time homebuyers just like you\, looking to learn how to navigate purchasing their first home.\n\n \n\nEvent Details\n\nDate: November 7\, 2024\n\nTime: 5:30 PM\n\nLocation: Lake Michigan College   South Haven Campus\, \n\nCost: FREE\n\nReady to take your first step towards homeownership? This is your chance to gain the clarity and confidence needed to make informed decisions about buying your first home.\n\nRegister now to secure your spot seating is limited: www.bit.ly/SHFTHB
X-ALT-DESC;FMTTYPE=text/html:<h1 aria-level="2" class="edn_articleTitle" role="heading">Join Us in South Haven for &quot\;The Path to Homeownership&quot\; &ndash\; A Free Event for First-Time Homebuyers</h1>\n\n<p>As your local hometown bank\, we&#39\;re committed to supporting you in all of life&#39\;s significant milestones. &nbsp\;We understand that stepping into homeownership can be a daunting journey\, which is why we&#39\;ve organized a special event just for you&mdash\;The Path to Homeownership: Navigating Your First Home Purchase. Join us on November 7th at 5:30 PM at&nbsp\;<a href="https://thekoolcenter.org/">L</a><a href="https://www.lakemichigancollege.edu/campus/south-haven">ake Michigan College&#39\;s South Haven Campus</a>&nbsp\;for an evening filled with expert advice that will help set you up for success on your home buying journey.</p>\n\n<p>&nbsp\;</p>\n\n<h2><b>Why Attend?</b></h2>\n\n<p>Buying a home is a significant investment and comes with many questions. How do I secure a mortgage? What rates are best for me? What paperwork do I need? Our event is tailor-made to answer all these questions and more\, providing you with the knowledge and tools to navigate the complexities of the homebuying process confidently.</p>\n\n<p>&nbsp\;</p>\n\n<h2><b>Meet Your Guides</b></h2>\n\n<p>Expertise matters\, especially when it&#39\;s your first time buying a home. We are thrilled to introduce several of our very own industry experts who will lead this event:</p>\n\n<ul>\n	<li><a href="https://klarson-sturgisbank.mortgagewebcenter.com/">Krissy Larson</a> &mdash\; South Haven Banking Center (Downtown)</li>\n	<li><a href="https://jpostello-sturgisbank.mortgagewebcenter.com/">Jennifer Postello</a> &mdash\; South Haven Banking Center (M-43)</li>\n	<li><a href="https://hscruggs-sturgisbank.mortgagewebcenter.com/">Heather Scruggs</a> &mdash\; Bangor Banking Center</li>\n</ul>\n\n<p>These seasoned professionals will share invaluable insights and tips to help you understand everything from securing the best mortgage rates to understanding the fine print.</p>\n\n<p>&nbsp\;</p>\n\n<h2><b>What You Will Learn</b></h2>\n\n<p>Our speakers will cover a range of topics designed to demystify the homebuying process:</p>\n\n<p><b>Understanding Mortgage Basics:</b>&nbsp\;Types of mortgages\, how to apply\, and getting the best rates.</p>\n\n<p><b>The Financial Commitment:</b>&nbsp\;Evaluating your financial health and understanding the costs beyond the down payment.</p>\n\n<p><b>Navigating the Market:</b>&nbsp\;How to search for homes\, what to expect during viewings\, and how to deal with sellers.</p>\n\n<p><b>Decoding the Fine Print:</b>&nbsp\;Understanding the legal aspects\, contracts\, and what to expect at closing.</p>\n\n<p>&nbsp\;</p>\n\n<h2><b>Special Features</b></h2>\n\n<p><b>Interactive Q&amp\;A Sessions:</b>&nbsp\;Have specific questions? Get them answered directly by our experts.</p>\n\n<p><b>Networking Opportunities:</b>&nbsp\;Meet fellow first-time homebuyers just like you\, looking to learn how to navigate purchasing their first home.</p>\n\n<p>&nbsp\;</p>\n\n<h2><b>Event Details</b></h2>\n\n<p><b>Date:</b>&nbsp\;November 7\, 2024</p>\n\n<p><b>Time:</b>&nbsp\;5:30 PM</p>\n\n<p><b>Location:</b>&nbsp\;<a href="https://www.lakemichigancollege.edu/campus/south-haven">Lake Michigan College &ndash\; South Haven Campus</a>\,&nbsp\;</p>\n\n<p><b>Cost:</b>&nbsp\;FREE</p>\n\n<p>Ready to take your first step towards homeownership? This is your chance to gain the clarity and confidence needed to make informed decisions about buying your first home.</p>\n\n<p>Register now to secure your spot&mdash\;seating is limited:&nbsp\;<a href="https://www.bit.ly/SHFTHB">www.bit.ly/SHFTHB</a></p>\n
LOCATION:
UID:e.2015.8596
SEQUENCE:3
DTSTAMP:20260422T000921Z
URL:https://www.southhavenmi.com/events/details/the-path-to-homeownership-navigating-your-first-home-purchase-8596
END:VEVENT

END:VCALENDAR
