BEGIN:VCALENDAR
VERSION:2.0
PRODID:-//ChamberMaster//Event Calendar 2.0//EN
METHOD:PUBLISH
X-PUBLISHED-TTL:P3D
REFRESH-INTERVAL:P3D
CALSCALE:GREGORIAN
BEGIN:VEVENT
DTSTART:20200214T153000Z
DTEND:20200214T153000Z
X-MICROSOFT-CDO-ALLDAYEVENT:FALSE
SUMMARY:Tune Bugs
DESCRIPTION:Tunebugs is a free drop-in music exploration and play time for preschool aged children\, held every Friday at 10:30am at the South Haven Center for the Arts.
X-ALT-DESC;FMTTYPE=text/html:Tunebugs is a free drop-in music exploration and play time for preschool aged children\, held every Friday at 10:30am at the South Haven Center for the Arts.
LOCATION:
UID:e.2015.4443
SEQUENCE:3
DTSTAMP:20260421T102330Z
URL:https://www.southhavenmi.com/events/details/tune-bugs-02-14-2020-4443
END:VEVENT

END:VCALENDAR
