BEGIN:VCALENDAR
VERSION:2.0
PRODID:-//ChamberMaster//Event Calendar 2.0//EN
METHOD:PUBLISH
X-PUBLISHED-TTL:P3D
REFRESH-INTERVAL:P3D
CALSCALE:GREGORIAN
BEGIN:VEVENT
DTSTART;VALUE=DATE:20241011
DTEND;VALUE=DATE:20241012
TRANSP:TRANSPARENT
X-MICROSOFT-CDO-ALLDAYEVENT:TRUE
SUMMARY:YOM KIPPUR
DESCRIPTION:YOM KIPPUR\n\nYOM KIPPUR EVE\n\nFriday\, October 11\, 2024   \n\nKol Nidre   7:00PM
X-ALT-DESC;FMTTYPE=text/html:<strong><span style="border:none windowtext 1.0pt\;padding:0in\;"><span style="color:#444444\;"><span style="font-family:open sans\,sans-serif\;"><span style="font-size:10.5pt\;">YOM KIPPUR</span></span></span></span></strong><br />\n<span style="border:none windowtext 1.0pt\;padding:0in\;"><span style="color:#444444\;"><span style="font-family:open sans\,sans-serif\;"><span style="font-size:10.5pt\;">YOM KIPPUR EVE<br />\nFriday\, October 11\, 2024&nbsp\; &nbsp\;</span></span></span></span><br />\n<span style="color:#444444\;"><span style="font-family:open sans\,sans-serif\;"><span style="font-size:10.5pt\;">Kol Nidre &ndash\; 7:00PM</span></span></span><br />\n&nbsp\;
LOCATION:
UID:e.2015.8547
SEQUENCE:3
DTSTAMP:20260422T015414Z
URL:https://www.southhavenmi.com/events/details/yom-kippur-8547
END:VEVENT

END:VCALENDAR
