BEGIN:VCALENDAR
VERSION:2.0
PRODID:-//ChamberMaster//Event Calendar 2.0//EN
METHOD:PUBLISH
X-PUBLISHED-TTL:P3D
REFRESH-INTERVAL:P3D
CALSCALE:GREGORIAN
BEGIN:VEVENT
DTSTART;VALUE=DATE:20241012
DTEND;VALUE=DATE:20241013
TRANSP:TRANSPARENT
X-MICROSOFT-CDO-ALLDAYEVENT:TRUE
SUMMARY:YOM KIPPUR DAY
DESCRIPTION:YOM KIPPUR DAY\n\nSaturday\, October 12\, 2024      10:00AM\n\nMinhah\, Neilah   5:30PM\n\nMaariv & Shofar Blowing   Monday   7:30PM
X-ALT-DESC;FMTTYPE=text/html:<strong><span style="border:none windowtext 1.0pt\;padding:0in\;"><span style="color:#444444\;"><span style="font-family:open sans\,sans-serif\;"><span style="font-size:10.5pt\;">YOM KIPPUR DAY</span></span></span></span></strong><br />\n<span style="color:#444444\;"><span style="font-family:open sans\,sans-serif\;"><span style="font-size:10.5pt\;"><span style="border:none windowtext 1.0pt\;padding:0in\;">Saturday\, October 12\, 2024&nbsp\; &nbsp\;</span>&nbsp\;&ndash\; 10:00AM<br />\nMinhah\, Neilah &ndash\; 5:30PM<br />\nMaariv &amp\; Shofar Blowing &ndash\; Monday &ndash\; 7:30PM</span></span></span><br />\n&nbsp\;
LOCATION:
UID:e.2015.8548
SEQUENCE:3
DTSTAMP:20260422T015433Z
URL:https://www.southhavenmi.com/events/details/yom-kippur-day-8548
END:VEVENT

END:VCALENDAR
